BEGIN:VCALENDAR
VERSION:2.0
PRODID:-//ChamberMaster//Event Calendar 2.0//EN
METHOD:PUBLISH
X-PUBLISHED-TTL:P3D
REFRESH-INTERVAL:P3D
CALSCALE:GREGORIAN
BEGIN:VEVENT
DTSTART:20131210T170000Z
DTEND:20131210T173000Z
X-MICROSOFT-CDO-ALLDAYEVENT:FALSE
SUMMARY:Osaka Buffet Grand Opening Ribbon Cutting
DESCRIPTION:Osaka Buffet\, located at 1510 E. Kimberly Rd. Davenport\, IA 52807\, will be celebrating the grand opening of their new location with a ribbon cutting on Tuesday\, December 10th at 11:00am.    Osaka Buffet has an wide variety of food options ranging from sushi to American style finger foods.  They also serve high quality\, healthy options including steak\, seafood\, noodles\, tempura\, and more.  Osaka Buffet's other restaurant is located at 3901 41 Street in Moline\, IL.  Both the new Davenport restaurant and the Moline restaurant will have the option of ordering food online.  For more information\, please visit www.osakabuffetqc.com. Jeanna Trenkamp\, Program & Events Coordinator\, will be speaking on behalf of the Quad Cities Chamber of Commerce.
X-ALT-DESC;FMTTYPE=text/html:<P style="MARGIN: 0in 0in 0pt" class=MsoNormal><P style="MARGIN: 0in 0in 0pt" class=MsoNormal><FONT face=Calibri>Osaka Buffet\, <B style="mso-bidi-font-weight: normal">located at 1510 E. Kimberly Rd. Davenport\, IA 52807</B>\, will be celebrating the grand opening of their new location with a ribbon cutting on Tuesday\, <B style="mso-bidi-font-weight: normal">December 10th at 11:00am</B>.<SPAN style="mso-spacerun: yes">&nbsp\;&nbsp\; </SPAN><?xml:namespace prefix = o ns = "urn:schemas-microsoft-com:office:office" /><o:p></o:p></FONT></P><P style="MARGIN: 0in 0in 0pt" class=MsoNormal><o:p><FONT face=Calibri>&nbsp\;</FONT></o:p></P><P style="MARGIN: 0in 0in 0pt" class=MsoNormal><FONT face=Calibri>Osaka Buffet has an wide variety of food options ranging from sushi to American style finger foods.<SPAN style="mso-spacerun: yes">&nbsp\; </SPAN>They also serve high quality\, healthy options including steak\, seafood\, noodles\, tempura\, and more.<SPAN style="mso-spacerun: yes">&nbsp\; </SPAN>Osaka Buffet's other restaurant is located at 3901 41<SUP> </SUP>Street in Moline\, IL.<SPAN style="mso-spacerun: yes">&nbsp\; </SPAN>Both the new Davenport restaurant and the Moline restaurant will have the option of ordering food online.<SPAN style="mso-spacerun: yes">&nbsp\; </SPAN>For more information\, please visit </FONT><A href="http://www.osakabuffetqc.com">www.osakabuffetqc.com</A><FONT face=Calibri>.<o:p></o:p></FONT></P><P style="MARGIN: 0in 0in 0pt" class=MsoNormal><o:p><FONT face=Calibri>&nbsp\;</FONT></o:p></P><P style="MARGIN: 0in 0in 0pt" class=MsoNormal><FONT face=Calibri>Jeanna Trenkamp\, Program &amp\; Events Coordinator\, will be speaking on behalf of the Quad Cities Chamber of Commerce.<SPAN style="mso-spacerun: yes">&nbsp\; </SPAN></FONT><o:p></o:p></P><P>&nbsp\;</P>
LOCATION:Osaka Buffet1510 E. Kimberly Rd. Davenport\, IA 52807
UID:e.2843.758
SEQUENCE:3
DTSTAMP:20260422T013327Z
URL:https://member.quadcitieschamber.com/events/details/osaka-buffet-grand-opening-ribbon-cutting-12-10-2013-758
END:VEVENT

END:VCALENDAR
