BEGIN:VCALENDAR
VERSION:2.0
PRODID:-//ChamberMaster//Event Calendar 2.0//EN
METHOD:PUBLISH
X-PUBLISHED-TTL:P3D
REFRESH-INTERVAL:P3D
CALSCALE:GREGORIAN
BEGIN:VEVENT
DTSTART:20190115T140000Z
DTEND:20190115T163000Z
X-MICROSOFT-CDO-ALLDAYEVENT:FALSE
SUMMARY:OSHA 10-Hour Construction Industry Outreach Training
DESCRIPTION:This course will cover construction safety and health principles and OSHA policies\, procedures\, and construction industry standards. Special emphasis is placed on the most hazardous areas using OSHA standards as a guide. This course is taught by an OSHA-authorized instructor. Participants who successfully complete the course will receive a card from OSHA verifying their completion of the course. Class #1206. Call 563.441.4100 to register.
X-ALT-DESC;FMTTYPE=text/html:This course will cover construction safety and health principles and OSHA policies\, procedures\, and construction industry standards. Special emphasis is placed on the most hazardous areas using OSHA standards as a guide. This course is taught by an OSHA-authorized instructor. Participants who successfully complete the course will receive a card from OSHA verifying their completion of the course. Class #1206. Call 563.441.4100 to register.
LOCATION:EICC Midwest Center for Public Safety Training\, 8200 N. Fairmount\, Davenport\, IA 52806
UID:e.2843.13663
SEQUENCE:3
DTSTAMP:20260422T215002Z
URL:https://member.quadcitieschamber.com/events/details/osha-10-hour-construction-industry-outreach-training-01-15-2019-13663
END:VEVENT

END:VCALENDAR
