BEGIN:VCALENDAR
VERSION:2.0
PRODID:-//ChamberMaster//Event Calendar 2.0//EN
METHOD:PUBLISH
X-PUBLISHED-TTL:P3D
REFRESH-INTERVAL:P3D
CALSCALE:GREGORIAN
BEGIN:VEVENT
DTSTART:20190416T130000Z
DTEND:20190417T213000Z
X-MICROSOFT-CDO-ALLDAYEVENT:FALSE
SUMMARY:OSHA 10-Hour General Industry Outreach Training #1261
DESCRIPTION:Participants will learn how nine major provisions of the Occupational Safety and Health Act (OSHA) can be implemented in the workplace. Topics include common violations\, inspections\, citations and penalties\, walking and working surfaces\, means of egress and fire protection\, hazardous materials\, material handling\, electrical safety\, and machine guarding. This course is taught by an OSHA-authorized instructor. Participants who successfully complete the course will receive a card from OSHA verifying completion of the course. Call Eastern Iowa Community Colleges at 563.441.4100 to register.
X-ALT-DESC;FMTTYPE=text/html:Participants will learn how nine major provisions of the Occupational Safety and Health Act (OSHA) can be implemented in the workplace. Topics include common violations\, inspections\, citations and penalties\, walking and working surfaces\, means of egress and fire protection\, hazardous materials\, material handling\, electrical safety\, and machine guarding. This course is taught by an OSHA-authorized instructor. Participants who successfully complete the course will receive a card from OSHA verifying completion of the course. Call Eastern Iowa Community Colleges at 563.441.4100 to register.
LOCATION:EICC Midwest Center for Public Safety Training\, 8200 N. Fairmount\, Davenport\, IA 52806
UID:e.2843.14276
SEQUENCE:3
DTSTAMP:20260422T164016Z
URL:https://member.quadcitieschamber.com/events/details/osha-10-hour-general-industry-outreach-training-1261-14276
END:VEVENT

END:VCALENDAR
