BEGIN:VCALENDAR
VERSION:2.0
PRODID:-//ChamberMaster//Event Calendar 2.0//EN
METHOD:PUBLISH
X-PUBLISHED-TTL:P3D
REFRESH-INTERVAL:P3D
CALSCALE:GREGORIAN
BEGIN:VEVENT
DTSTART:20180118T140000Z
DTEND:20180118T223000Z
X-MICROSOFT-CDO-ALLDAYEVENT:FALSE
SUMMARY:OSHA 30- Hour Construction Industry Outreach Training
DESCRIPTION:This four-day course is an in-depth presentation of the OSHA construction regulations and their implementation at job sites. Topics include OSHA standards\; recordkeeping\; safety\, health and environmental controls\; fire prevention\; personal protective equipment\; hand and power tools\; scaffolding\; and excavations. This course is taught by an OSHA-authorized instructor. Participants who successfully complete the course will receive a card from OSHA verifying their completion of the course. For more information\, email dpetrillo@eicc.edu. To register\, please call 563.441.4100.
X-ALT-DESC;FMTTYPE=text/html:<span style="color:black"><span style="font-family:arial\,sans-serif">This four-day course is an in-depth presentation of the OSHA construction regulations and their implementation at job sites. Topics include OSHA standards\; recordkeeping\; safety\, health and environmental controls\; fire prevention\; personal protective equipment\; hand and power tools\; scaffolding\; and excavations. This course is taught by an OSHA-authorized instructor. Participants who successfully complete the course will receive a card from OSHA verifying their completion of the course. </span></span>For more information\, email dpetrillo@eicc.edu. To register\, please call 563.441.4100.
LOCATION:EICC Midwest Center for Public Safety Training\, 8200 N. Fairmount\, Davenport\, IA 52806
UID:e.2843.9932
SEQUENCE:3
DTSTAMP:20260423T181838Z
URL:https://member.quadcitieschamber.com/events/details/osha-30-hour-construction-industry-outreach-training-01-18-2018-9932
END:VEVENT

END:VCALENDAR
