BEGIN:VCALENDAR
VERSION:2.0
PRODID:-//ChamberMaster//Event Calendar 2.0//EN
METHOD:PUBLISH
X-PUBLISHED-TTL:P3D
REFRESH-INTERVAL:P3D
CALSCALE:GREGORIAN
BEGIN:VEVENT
DTSTART:20180515T130000Z
DTEND:20180515T213000Z
X-MICROSOFT-CDO-ALLDAYEVENT:FALSE
SUMMARY:OSHA 30-Hour General Industry Outreach Training
DESCRIPTION:This course is a more in-depth version of the OSHA 10-Hour General Industry Outreach Training course. Participants will learn how the provisions of the Occupational Safety and Health Act (OSHA) can be implemented in the workplace. Topics include common violations\, inspections\, citations and penalties\, walking and working surfaces\, means of egress and fire protection\, hazardous materials\, material handling\, electrical safety\, and machine guarding. Participants will learn to locate and read standards and understand how to identify specific safety and health issues. This course will be taught by an OSHA-authorized instructor. Participants who successfully complete the course will receive a card from OSHA verifying their completion of the course. Section #185417. To register\, call (563) 441-4100.
X-ALT-DESC;FMTTYPE=text/html:This course is a more in-depth version of the OSHA 10-Hour General Industry Outreach Training course. Participants will learn how the provisions of the Occupational Safety and Health Act (OSHA) can be implemented in the workplace. Topics include common violations\, inspections\, citations and penalties\, walking and working surfaces\, means of egress and fire protection\, hazardous materials\, material handling\, electrical safety\, and machine guarding. Participants will learn to locate and read standards and understand how to identify specific safety and health issues. This course will be taught by an OSHA-authorized instructor. Participants who successfully complete the course will receive a card from OSHA verifying their completion of the course. Section #185417. To register\, call (563) 441-4100.
LOCATION:Midwest Center for Public Safety Training\, 8200 N. Fairmount\, Davenport\, IA 52806
UID:e.2843.13185
SEQUENCE:3
DTSTAMP:20260423T105018Z
URL:https://member.quadcitieschamber.com/events/details/osha-30-hour-general-industry-outreach-training-13185
END:VEVENT

END:VCALENDAR
