BEGIN:VCALENDAR
VERSION:2.0
PRODID:-//ChamberMaster//Event Calendar 2.0//EN
METHOD:PUBLISH
X-PUBLISHED-TTL:P3D
REFRESH-INTERVAL:P3D
CALSCALE:GREGORIAN
BEGIN:VEVENT
DTSTART:20180202T140000Z
DTEND:20180202T160000Z
X-MICROSOFT-CDO-ALLDAYEVENT:FALSE
SUMMARY:OSHA Control of Hazardous Energy (Lock Out/Tag Out)
DESCRIPTION:OSHA's Control of Hazardous Energy (Lockout/Tagout) Standard 29 CFR 1910.147 requires employers to establish a program for energy control procedures. Topics include requirements of the Control of Hazardous Energy standard\, physical locks and tags\, safe lockout procedures\, and training requirements. Assistance with developing a written Hazardous Energy Control Plan is given. Section #186330. To register\, please call 563.441.4100.
X-ALT-DESC;FMTTYPE=text/html:OSHA&#39\;s Control of Hazardous Energy (Lockout/Tagout) Standard 29 CFR 1910.147 requires employers to establish a program for energy control procedures. Topics include requirements of the Control of Hazardous Energy standard\, physical locks and tags\, safe lockout procedures\, and training requirements. Assistance with developing a written Hazardous Energy Control Plan is given. Section&nbsp\;<span style="font-family:calibri\,sans-serif"><span style="font-size:11.0pt">#186330.</span></span> To register\, please call 563.441.4100.
LOCATION:EICC Midwest Center for Public Safety Training\, 8200 N. Fairmount\, Davenport\, IA 52806
UID:e.2843.9967
SEQUENCE:3
DTSTAMP:20260423T153653Z
URL:https://member.quadcitieschamber.com/events/details/osha-control-of-hazardous-energy-lock-out-tag-out-9967
END:VEVENT

END:VCALENDAR
