BEGIN:VCALENDAR
VERSION:2.0
PRODID:-//ChamberMaster//Event Calendar 2.0//EN
METHOD:PUBLISH
X-PUBLISHED-TTL:P3D
REFRESH-INTERVAL:P3D
CALSCALE:GREGORIAN
BEGIN:VEVENT
DTSTART:20190206T160000Z
DTEND:20190206T180000Z
X-MICROSOFT-CDO-ALLDAYEVENT:FALSE
SUMMARY:OSHA Control of Hazardous Energy Regulations (Lockout/Tagout) #1214
DESCRIPTION:OSHA's Control of Hazardous Energy (Lockout/Tagout) Standard 29 CFR 1910.147 requires employers to establish a program for energy control procedures. Topics include requirements of the Control of Hazardous Energy standard\, physical locks and tags\, safe lockout procedures\, and training requirements. Assistance with developing a written Hazardous Energy Control Plan is given. Call (563) 441-4100 to register.
X-ALT-DESC;FMTTYPE=text/html:OSHA&#39\;s Control of Hazardous Energy (Lockout/Tagout) Standard 29 CFR 1910.147 requires employers to establish a program for energy control procedures. Topics include requirements of the Control of Hazardous Energy standard\, physical locks and tags\, safe lockout procedures\, and training requirements. Assistance with developing a written Hazardous Energy Control Plan is given. Call (563) 441-4100 to register.
LOCATION:EICC Midwest Center for Public Safety Training\, 8200 N. Fairmount\, Davenport\, IA 52806
UID:e.2843.13743
SEQUENCE:3
DTSTAMP:20260422T215337Z
URL:https://member.quadcitieschamber.com/events/details/osha-control-of-hazardous-energy-regulations-lockout-tagout-1214-13743
END:VEVENT

END:VCALENDAR
