BEGIN:VCALENDAR
VERSION:2.0
PRODID:-//ChamberMaster//Event Calendar 2.0//EN
METHOD:PUBLISH
X-PUBLISHED-TTL:P3D
REFRESH-INTERVAL:P3D
CALSCALE:GREGORIAN
BEGIN:VEVENT
DTSTART:20181205T140000Z
DTEND:20181205T180000Z
X-MICROSOFT-CDO-ALLDAYEVENT:FALSE
SUMMARY:OSHA Hazard Communication Standard/GHS #1195
DESCRIPTION:OSHA's Hazard Communication Standard 29 CFR 1910.1200 requires employers to develop a Written Hazard Communication Program for their employees and to inform and train them on the chemical hazards in the workplace. This course provides an overview of the standard\, new GHS label elements and SDS format conforming to the United Nations Globally Harmonized System of Classification\, Safety Data Sheets (SDS) collection and retention\, in-house labeling\, placarding systems\, proper storage procedures\, employee training\, and documentation. To register\, call 563.441.4100.
X-ALT-DESC;FMTTYPE=text/html:OSHA&#39\;s Hazard Communication Standard 29 CFR 1910.1200 requires employers to develop a Written Hazard Communication Program for their employees and to inform and train them on the chemical hazards in the workplace. This course provides an overview of the standard\, new GHS label elements and SDS format conforming to the United Nations Globally Harmonized System of Classification\, Safety Data Sheets (SDS) collection and retention\, in-house labeling\, placarding systems\, proper storage procedures\, employee training\, and documentation. To register\, call 563.441.4100.
LOCATION:Midwest Center for Public Safety Training\, 8200 N. Fairmount\, Davenport\, IA 52806
UID:e.2843.13559
SEQUENCE:3
DTSTAMP:20260422T234122Z
URL:https://member.quadcitieschamber.com/events/details/osha-hazard-communication-standard-ghs-1195-13559
END:VEVENT

END:VCALENDAR
