BEGIN:VCALENDAR
VERSION:2.0
PRODID:-//ChamberMaster//Event Calendar 2.0//EN
METHOD:PUBLISH
X-PUBLISHED-TTL:P3D
REFRESH-INTERVAL:P3D
CALSCALE:GREGORIAN
BEGIN:VEVENT
DTSTART:20180822T130000Z
DTEND:20180822T160000Z
X-MICROSOFT-CDO-ALLDAYEVENT:FALSE
SUMMARY:OSHA Hazard Communication Standard/GHS #867
DESCRIPTION:OSHA's Hazard Communication Standard 29 CFR 1910.1200 requires employers to develop a Written Hazard Communication Program for their employees and to inform and train them on the chemical hazards in the workplace. This course provides an overview of the standard\, new GHS label elements and SDS format conforming to the United Nations Globally Harmonized System of Classification\, Safety Data Sheets (SDS) collection and retention\, in-house labeling\, placarding systems\, proper storage procedures\, employee training\, and documentation. To register\, call (563) 441-4100.
X-ALT-DESC;FMTTYPE=text/html:OSHA&#39\;s Hazard Communication Standard 29 CFR 1910.1200 requires employers to develop a Written Hazard Communication Program for their employees and to inform and train them on the chemical hazards in the workplace. This course provides an overview of the standard\, new GHS label elements and SDS format conforming to the United Nations Globally Harmonized System of Classification\, Safety Data Sheets (SDS) collection and retention\, in-house labeling\, placarding systems\, proper storage procedures\, employee training\, and documentation. To register\, call (563) 441-4100.
LOCATION:EICC Midwest Center for Public Safety Training\, 8200 N. Fairmount\, Davenport\, IA 52806
UID:e.2843.13389
SEQUENCE:3
DTSTAMP:20260423T061824Z
URL:https://member.quadcitieschamber.com/events/details/osha-hazard-communication-standard-ghs-867-13389
END:VEVENT

END:VCALENDAR
