BEGIN:VCALENDAR
VERSION:2.0
PRODID:-//ChamberMaster//Event Calendar 2.0//EN
METHOD:PUBLISH
X-PUBLISHED-TTL:P3D
REFRESH-INTERVAL:P3D
CALSCALE:GREGORIAN
BEGIN:VEVENT
DTSTART:20130629T130000Z
DTEND:20130629T180000Z
X-MICROSOFT-CDO-ALLDAYEVENT:FALSE
SUMMARY:Outdoor Group Fitness Event
DESCRIPTION:Fitness Xpress Moline is partnering with Riverbend food bank for their outdoor group fitness day. Admission is 2 canned good items. There will be food\, fun\, raffle prizes\, a cookout and great group fitness classes.
X-ALT-DESC;FMTTYPE=text/html:Fitness Xpress Moline is partnering with Riverbend food bank for their outdoor group fitness day. Admission is 2 canned good items. There will be food\, fun\, raffle prizes\, a cookout and great group fitness classes.
LOCATION:Fitness Xpress Moline4200 24th Ave Moline\, IL 61265
UID:e.2843.70
SEQUENCE:3
DTSTAMP:20260421T134947Z
URL:https://member.quadcitieschamber.com/events/details/outdoor-group-fitness-event-06-29-2013-70
END:VEVENT

END:VCALENDAR
