BEGIN:VCALENDAR
VERSION:2.0
PRODID:-//ChamberMaster//Event Calendar 2.0//EN
METHOD:PUBLISH
X-PUBLISHED-TTL:P3D
REFRESH-INTERVAL:P3D
CALSCALE:GREGORIAN
BEGIN:VEVENT
DTSTART:20130807T160000Z
DTEND:20130807T163000Z
X-MICROSOFT-CDO-ALLDAYEVENT:FALSE
SUMMARY:Pacific Dreams Grand Opening Ribbon Cutting
DESCRIPTION:Please help new member Pacific Dreams celebration their grand opening ribbon cutting on Wednesday\, August 7th at 11:00 a.m. \nPacific Dreams is a mattress retailer for Sealy\, Sealy Posturepedic\, Optimum\, Stearns and Foster.
X-ALT-DESC;FMTTYPE=text/html:<FONT face=Calibri><P style="MARGIN: 0in 0in 0pt\; mso-layout-grid-align: none" class=MsoNormal><SPAN style="FONT-FAMILY: 'Tahoma'\,'sans-serif'\; COLOR: black\; FONT-SIZE: 10pt">Please help new member Pacific Dreams celebration their grand opening ribbon cutting on <B>Wednesday\, August 7th at 11:00 a.m. </B></SPAN><SPAN style="FONT-FAMILY: 'Times New Roman'\,'serif'\; FONT-SIZE: 12pt"><?xml:namespace prefix = o ns = "urn:schemas-microsoft-com:office:office" /><o:p></o:p></SPAN></P><P style="MARGIN: 0in 0in 0pt\; mso-layout-grid-align: none" class=MsoNormal><SPAN style="FONT-FAMILY: 'Times New Roman'\,'serif'\; COLOR: black\; FONT-SIZE: 12pt"><BR style="mso-special-character: line-break"></SPAN><SPAN style="FONT-FAMILY: 'Times New Roman'\,'serif'\; FONT-SIZE: 12pt"><o:p></o:p></SPAN></P><P style="MARGIN: 0in 0in 0pt\; mso-layout-grid-align: none" class=MsoNormal><SPAN style="FONT-FAMILY: 'Tahoma'\,'sans-serif'\; COLOR: black\; FONT-SIZE: 10pt">Pacific Dreams is a mattress retailer for Sealy\, Sealy Posturepedic\, Optimum\, Stearns and Foster.<SPAN style="mso-spacerun: yes">&nbsp\; </SPAN></SPAN><SPAN style="FONT-FAMILY: 'Times New Roman'\,'serif'\; FONT-SIZE: 12pt"><o:p></o:p></SPAN></P><P style="MARGIN: 0in 0in 0pt" class=MsoNormal></FONT></P>
LOCATION:Pacific Dreams Mattress Co.3735 Avenue of the Cities Moline\, IL 61265
UID:e.2843.630
SEQUENCE:3
DTSTAMP:20260421T170108Z
URL:https://member.quadcitieschamber.com/events/details/pacific-dreams-grand-opening-ribbon-cutting-08-07-2013-630
END:VEVENT

END:VCALENDAR
