BEGIN:VCALENDAR
VERSION:2.0
PRODID:-//ChamberMaster//Event Calendar 2.0//EN
METHOD:PUBLISH
X-PUBLISHED-TTL:P3D
REFRESH-INTERVAL:P3D
CALSCALE:GREGORIAN
BEGIN:VEVENT
DTSTART:20131217T173000Z
DTEND:20131217T190000Z
X-MICROSOFT-CDO-ALLDAYEVENT:FALSE
SUMMARY:Passages Hospice Grand Opening Ribbon Cutting
DESCRIPTION:Passages Hospice\, located at 609 35th Ave. Ste. 1 (upper level) Moline\, IL 61265\, will host a open house and ribbon cutting to celebrate their new location in Moline. http://mapq.st/1cd17iV.  The ribbon cutting and open house will begin at 11:30am on December 17\, 2013.   Membership Manager\, Mike Coughlin\, will be speaking on behalf of the Quad Cities Chamber of Commerce.   Passages Hospice provides exceptional end of life care through innovative programs and caring\, respectful employees.  They are dedicated to “family and patient” centered care\, focusing on the family’s wants and needs as well as each patient’s best interest.  With services extending well beyond those of other hospices\, Passages has grown by leaps and bounds since it first started in 2005.  Most importantly\, Passages has given many families and patients the kind of comfort\, care and respect they always deserved.  For more information on Passages Hospice\, please visit www.passageshospice.com.
X-ALT-DESC;FMTTYPE=text/html:<P style="MARGIN: 0in 0in 0pt" class=MsoNormal><P style="MARGIN: 0in 0in 0pt" class=MsoNormal><FONT face=Calibri>Passages Hospice\, located at <B style="mso-bidi-font-weight: normal">609 35<SUP>th</SUP> Ave. Ste. 1 (upper level) Moline\, IL 61265</B>\, will host a open house and ribbon cutting to celebrate their new location in Moline. </FONT><A href="http://mapq.st/1cd17iV">http://mapq.st/1cd17iV</A><FONT face=Calibri>.<SPAN style="mso-spacerun: yes">&nbsp\; </SPAN>The ribbon cutting and open house will begin at <B style="mso-bidi-font-weight: normal">11:30am on December 17\, 2013</B>.<SPAN style="mso-spacerun: yes">&nbsp\; </SPAN><?xml:namespace prefix = o ns = "urn:schemas-microsoft-com:office:office" /><o:p></o:p></FONT></P><P style="MARGIN: 0in 0in 0pt" class=MsoNormal><o:p><FONT face=Calibri>&nbsp\;</FONT></o:p></P><P style="MARGIN: 0in 0in 0pt" class=MsoNormal><FONT face=Calibri>Membership Manager\, Mike Coughlin\, will be speaking on behalf of the Quad Cities Chamber of Commerce.<SPAN style="mso-spacerun: yes">&nbsp\; </SPAN><o:p></o:p></FONT></P><P style="MARGIN: 0in 0in 0pt" class=MsoNormal><o:p><FONT face=Calibri>&nbsp\;</FONT></o:p></P><P style="MARGIN: 0in 0in 0pt" class=MsoNormal><FONT face=Calibri>Passages Hospice provides exceptional end of life care through innovative programs and caring\, respectful employees.<SPAN style="mso-spacerun: yes">&nbsp\; </SPAN>They are dedicated to “family and patient” centered care\, focusing on the family’s wants and needs as well as each patient’s best interest.<SPAN style="mso-spacerun: yes">&nbsp\; </SPAN>With services extending well beyond those of other hospices\, Passages has grown by leaps and bounds since it first started in 2005.<SPAN style="mso-spacerun: yes">&nbsp\; </SPAN>Most importantly\, Passages has given many families and patients the kind of comfort\, care and respect they always deserved. <o:p></o:p></FONT></P><P style="MARGIN: 0in 0in 0pt" class=MsoNormal><o:p><FONT face=Calibri>&nbsp\;</FONT></o:p></P><P style="MARGIN: 0in 0in 0pt" class=MsoNormal><FONT face=Calibri>For more information on Passages Hospice\, please visit </FONT><A href="http://www.passageshospice.com">www.passageshospice.com</A><FONT face=Calibri>.<o:p></o:p></FONT></P><P>&nbsp\;</P>
LOCATION:Passages Hospice609 35th Ave. Suite 1-A Upper Level Moline\, IL 61265
UID:e.2843.756
SEQUENCE:3
DTSTAMP:20260421T235341Z
URL:https://member.quadcitieschamber.com/events/details/passages-hospice-grand-opening-ribbon-cutting-12-17-2013-756
END:VEVENT

END:VCALENDAR
