BEGIN:VCALENDAR
VERSION:2.0
PRODID:-//ChamberMaster//Event Calendar 2.0//EN
METHOD:PUBLISH
X-PUBLISHED-TTL:P3D
REFRESH-INTERVAL:P3D
CALSCALE:GREGORIAN
BEGIN:VEVENT
DTSTART:20090729T050000Z
DTEND:20090729T050000Z
X-MICROSOFT-CDO-ALLDAYEVENT:FALSE
SUMMARY:Past Chairman Luncheon
DESCRIPTION:Past Chairman Luncheon
X-ALT-DESC;FMTTYPE=text/html:Past Chairman Luncheon
LOCATION:
UID:e.2843.3739
SEQUENCE:3
DTSTAMP:20260424T061355Z
URL:https://member.quadcitieschamber.com/events/details/past-chairman-luncheon-07-29-2009-3739
END:VEVENT

END:VCALENDAR
