BEGIN:VCALENDAR
VERSION:2.0
PRODID:-//ChamberMaster//Event Calendar 2.0//EN
METHOD:PUBLISH
X-PUBLISHED-TTL:P3D
REFRESH-INTERVAL:P3D
CALSCALE:GREGORIAN
BEGIN:VEVENT
DTSTART:20121011T203000Z
DTEND:20121011T210000Z
X-MICROSOFT-CDO-ALLDAYEVENT:FALSE
SUMMARY:Pat and Jack Bush Scenic Overlook Dedication Ceremony
DESCRIPTION:Please join the City of Bettendorf for a dedication of the Pat and Jack Bush Scenic Overlook on Thursday\, October 11th at 3:30pm.  Located at 3727 Elm Street – south on 35th Street from US 67\, to Elm Street – when you turn left on Elm Street the Scenic Overlook will be about 500 feet down from 25th Street on the right hand side.  There is additional parking available across the street from the Overlook if that lot is full. This exciting new addition to the Bettendorf Riverfront is a great compliment to the Riverfront Recreation Trail that is also a portion of the Mississippi Riverfront Trail “MRT” that runs from Minnesota to the Gulf of Mexico. Pat and Jack were a team in life and life long partners for over 57 years\, and raised their family in Bettendorf for their entire married lives.  They were philanthropic supporters\, personally contributing to many community projects that have strengthened and grown Bettendorf.  The McCarthy-Bush Corporation donated the land for the scenic overlook\, making the project possible.
X-ALT-DESC;FMTTYPE=text/html:<P style="MARGIN: 0in 0in 0pt" class=MsoNormal><FONT face=Calibri>Please join the City of Bettendorf for a dedication of the Pat and Jack Bush Scenic Overlook on Thursday\, October 11<SUP>th</SUP> at 3:30pm.<SPAN style="mso-spacerun: yes">&nbsp\; </SPAN>Located at 3727 Elm Street – south on 35<SUP>th</SUP> Street from US 67\, to Elm Street – when you turn left on Elm Street the Scenic Overlook will be about 500 feet down from 25<SUP>th</SUP> Street on the right hand side.<SPAN style="mso-spacerun: yes">&nbsp\; </SPAN>There is additional parking available across the street from the Overlook if that lot is full.</FONT></P><P style="MARGIN: 0in 0in 0pt" class=MsoNormal><?xml:namespace prefix = o ns = "urn:schemas-microsoft-com:office:office" /><o:p><FONT face=Calibri>&nbsp\;</FONT></o:p></P><P style="MARGIN: 0in 0in 0pt" class=MsoNormal><FONT face=Calibri>This exciting new addition to the Bettendorf Riverfront is a great compliment to the Riverfront Recreation Trail that is also a portion of the Mississippi Riverfront Trail “MRT” that runs from Minnesota to the Gulf of Mexico.</FONT></P><P style="MARGIN: 0in 0in 0pt" class=MsoNormal><o:p><FONT face=Calibri>&nbsp\;</FONT></o:p></P><P style="MARGIN: 0in 0in 0pt" class=MsoNormal><FONT face=Calibri>Pat and Jack were a team in life and life long partners for over 57 years\, and raised their family in Bettendorf for their entire married lives.<SPAN style="mso-spacerun: yes">&nbsp\; </SPAN>They were philanthropic supporters\, personally contributing to many community projects that have strengthened and grown Bettendorf.<SPAN style="mso-spacerun: yes">&nbsp\; </SPAN>The McCarthy-Bush Corporation donated the land for the scenic overlook\, making the project possible.</FONT></P><DIV>&nbsp\;</DIV>
LOCATION:3727 Elm Street\, Bettendorf\, IA 52722
UID:e.2843.459
SEQUENCE:3
DTSTAMP:20260421T170221Z
URL:https://member.quadcitieschamber.com/events/details/pat-and-jack-bush-scenic-overlook-dedication-ceremony-10-11-2012-459
END:VEVENT

END:VCALENDAR
