BEGIN:VCALENDAR
VERSION:2.0
PRODID:-//ChamberMaster//Event Calendar 2.0//EN
METHOD:PUBLISH
X-PUBLISHED-TTL:P3D
REFRESH-INTERVAL:P3D
CALSCALE:GREGORIAN
BEGIN:VEVENT
DTSTART:20130516T170000Z
DTEND:20130516T173000Z
X-MICROSOFT-CDO-ALLDAYEVENT:FALSE
SUMMARY:Penske Truck Leasing Grand Opening & Ribbon Cutting
DESCRIPTION:You are invited to the Penske Truck Leasing Grand Opening event to debut their new facility on Thursday\, May 16th at noon in Davenport\, located at 2403 Research Parkway\, in the Eastern Iowa Industrial Center.   Tours will be held continuously beginning at 11 a.m.\, with a ribbon-cutting ceremony to take place promptly at Noon.  A complimentary lunch will be provided. You will have an opportunity to get an up-close and personal look at this new $4.2 million\, 11\,800-square-foot structure.  This facility serves as a 21st century model of excellence for Penske locations across the country and contains state-of-the-art technology and design elements.   Please RSVP by May 6th to confirm your attendance.  For more information about Penske\, please access www.GoPenske.com.
X-ALT-DESC;FMTTYPE=text/html:<P style="MARGIN: 0in 0in 0pt" class=MsoNormal><FONT face=Calibri>You are invited to the Penske Truck Leasing Grand Opening event to debut their new facility on <B>Thursday\, May 16<SUP>th</SUP> at noon</B> in Davenport\, located at 2403 Research Parkway\, in the Eastern Iowa Industrial Center.&nbsp\; </FONT></P><P style="MARGIN: 0in 0in 0pt" class=MsoNormal><?xml:namespace prefix = o ns = "urn:schemas-microsoft-com:office:office" /><o:p><FONT face=Calibri>&nbsp\;</FONT></o:p></P><P style="MARGIN: 0in 0in 0pt" class=MsoNormal><FONT face=Calibri>Tours will be held continuously beginning at 11 a.m.\, with a ribbon-cutting ceremony to take place promptly at Noon.&nbsp\; A complimentary lunch will be provided.</FONT></P><P style="MARGIN: 0in 0in 0pt" class=MsoNormal><o:p><FONT face=Calibri>&nbsp\;</FONT></o:p></P><P style="MARGIN: 0in 0in 0pt" class=MsoNormal><FONT face=Calibri>You will have an opportunity to get an up-close and personal look at this new $4.2 million\, 11\,800-square-foot structure.&nbsp\; This facility serves as a 21<SUP>st</SUP> century model of excellence for Penske locations across the country and contains state-of-the-art technology and design elements.&nbsp\; </FONT></P><P style="MARGIN: 0in 0in 0pt" class=MsoNormal><o:p><FONT face=Calibri>&nbsp\;</FONT></o:p></P><P style="MARGIN: 0in 0in 0pt" class=MsoNormal><FONT face=Calibri>Please RSVP by May 6<SUP>th</SUP> to confirm your attendance.&nbsp\; For more information about Penske\, please access </FONT><A href="http://www.GoPenske.com"><FONT face=Calibri>www.GoPenske.com</FONT></A><FONT face=Calibri>.</FONT></P><DIV style="FONT-FAMILY: Arial">&nbsp\;</DIV>
LOCATION:Penske Truck Leasing Co.\, LP2403 Research Parkway Davenport\, IA
UID:e.2843.554
SEQUENCE:3
DTSTAMP:20260421T121638Z
URL:https://member.quadcitieschamber.com/events/details/penske-truck-leasing-grand-opening-ribbon-cutting-05-16-2013-554
END:VEVENT

END:VCALENDAR
