BEGIN:VCALENDAR
VERSION:2.0
PRODID:-//ChamberMaster//Event Calendar 2.0//EN
METHOD:PUBLISH
X-PUBLISHED-TTL:P3D
REFRESH-INTERVAL:P3D
CALSCALE:GREGORIAN
BEGIN:VEVENT
DTSTART:20130613T170000Z
DTEND:20130613T173000Z
X-MICROSOFT-CDO-ALLDAYEVENT:FALSE
SUMMARY:Penske Truck Leasing Grand Opening & Ribbon Cutting
DESCRIPTION:You are invited to the Penske Truck Leasing Grand Opening event to debut their new facility on Thursday\, June 13th at Noon in Davenport\, located at 2403 Research Parkway\, in the Eastern Iowa Industrial Center.   Tours will be held continuously beginning at 11 a.m.\, with a ribbon-cutting ceremony to take place promptly at Noon.  A complimentary lunch will be provided. You will have an opportunity to get an up-close and personal look at this new $4.2 million\, 11\,800-square-foot structure.  This facility serves as a 21st century model of excellence for Penske locations across the country and contains state-of-the-art technology and design elements.   For more information about Penske\, please access www.GoPenske.com.
X-ALT-DESC;FMTTYPE=text/html:<P style="MARGIN: 0in 0in 0pt" class=MsoNormal><FONT face=Calibri>You are invited to the Penske Truck Leasing Grand Opening event to debut their new facility on&nbsp\;<B style="mso-bidi-font-weight: normal">Thursday\, June 13<SUP>th</SUP> at Noon</B> in Davenport\, located at 2403 Research Parkway\, in the Eastern Iowa Industrial Center.&nbsp\; <?xml:namespace prefix = o ns = "urn:schemas-microsoft-com:office:office" /><o:p></o:p></FONT></P><P style="MARGIN: 0in 0in 0pt" class=MsoNormal><o:p><FONT face=Calibri>&nbsp\;</FONT></o:p></P><P style="MARGIN: 0in 0in 0pt" class=MsoNormal><FONT face=Calibri>Tours will be held continuously beginning at 11 a.m.\, with a ribbon-cutting ceremony to take place promptly at Noon.&nbsp\; A complimentary lunch will be provided.<o:p></o:p></FONT></P><P style="MARGIN: 0in 0in 0pt" class=MsoNormal><o:p><FONT face=Calibri>&nbsp\;</FONT></o:p></P><P style="MARGIN: 0in 0in 0pt" class=MsoNormal><FONT face=Calibri>You will have an opportunity to get an up-close and personal look at this new $4.2 million\, 11\,800-square-foot structure.&nbsp\; This facility serves as a 21<SUP>st</SUP> century model of excellence for Penske locations across the country and contains state-of-the-art technology and design elements.&nbsp\; <o:p></o:p></FONT></P><P style="MARGIN: 0in 0in 0pt" class=MsoNormal><o:p><FONT face=Calibri>&nbsp\;</FONT></o:p></P><P style="MARGIN: 0in 0in 0pt" class=MsoNormal><FONT face=Calibri>For more information about Penske\, please access </FONT><A href="http://www.GoPenske.com">www.GoPenske.com</A><FONT face=Calibri>.<o:p></o:p></FONT></P><DIV style="FONT-FAMILY: Arial">&nbsp\;</DIV>
LOCATION:Penske Truck Leasing2403 Research Parkway Davenport\, IA
UID:e.2843.590
SEQUENCE:3
DTSTAMP:20260421T152831Z
URL:https://member.quadcitieschamber.com/events/details/penske-truck-leasing-grand-opening-ribbon-cutting-06-13-2013-590
END:VEVENT

END:VCALENDAR
