BEGIN:VCALENDAR
VERSION:2.0
PRODID:-//ChamberMaster//Event Calendar 2.0//EN
METHOD:PUBLISH
X-PUBLISHED-TTL:P3D
REFRESH-INTERVAL:P3D
CALSCALE:GREGORIAN
BEGIN:VEVENT
DTSTART:20140404T170000Z
DTEND:20140404T173000Z
X-MICROSOFT-CDO-ALLDAYEVENT:FALSE
SUMMARY:Performance Foodservice - Thoms Proestler Co. 20 Year Anniversary Ribbon Cutting
DESCRIPTION:Performance Foodservice – Thoms Proestler Company\, 8001 51st Street West Rock Island\, IL\, will celebrate 20 years of business in Rock Island on Friday\, April 4th at 12:00pm.   Thoms Proestler Company built a 256\,000 square foot headquarters in Rock Island in 1994.  It became part of the Performance Food Group in 2002.  The company is a people-friendly business\, employing 360 associates and distributing more than 10\,000 different items to independent restaurants\, chain restaurants and institutional cafeterias within a 260-mile radius that includes parts of Illinois\, Iowa\, Wisconsin\, and Indiana.  As a broadline distributor\, Performance Foodservice – Thoms Proestler Company delivers a full line of fresh meat and produce\, frozen foods\, dry goods\, chemicals and disposables along with ROMA Italian specialty foods.   For more information\, please visit www.pfgc.com. Rene Hipple\, Senior Vice President of Membership will be speaking on behalf of the Quad Cities Chamber of Commerce.
X-ALT-DESC;FMTTYPE=text/html:<FONT face=Calibri><SPAN style="FONT-FAMILY: 'Calibri'\,'sans-serif'\; FONT-SIZE: 11pt\; mso-fareast-font-family: 'Times New Roman'\; mso-bidi-font-family: 'Times New Roman'\; mso-ansi-language: EN-US\; mso-fareast-language: EN-US\; mso-bidi-language: AR-SA"><P style="MARGIN: 0in 0in 0pt" class=MsoNormal><P style="MARGIN: 0in 0in 0pt" class=MsoNormal></P></SPAN></FONT><FONT face=Calibri><P style="MARGIN: 0in 0in 0pt" class=MsoNormal>Performance Foodservice – Thoms Proestler Company\, 8001 51<SUP>st</SUP> Street West Rock Island\, IL\, will celebrate 20 years of business in Rock Island on Friday\, April 4<SUP>th</SUP> at 12:00pm.<SPAN style="mso-spacerun: yes">&nbsp\; </SPAN><?xml:namespace prefix = o ns = "urn:schemas-microsoft-com:office:office" /><o:p></o:p></P><P style="MARGIN: 0in 0in 0pt" class=MsoNormal><o:p>&nbsp\;</o:p></P><P style="MARGIN: 0in 0in 0pt" class=MsoNormal>Thoms Proestler Company built a 256\,000 square foot headquarters in Rock Island in 1994.<SPAN style="mso-spacerun: yes">&nbsp\; </SPAN>It became part of the Performance Food Group in 2002.<SPAN style="mso-spacerun: yes">&nbsp\; </SPAN>The company is a people-friendly business\, employing 360 associates and distributing more than 10\,000 different items to independent restaurants\, chain restaurants and institutional cafeterias within a 260-mile radius that includes parts of Illinois\, Iowa\, Wisconsin\, and Indiana.<SPAN style="mso-spacerun: yes">&nbsp\; </SPAN>As a broadline distributor\, Performance Foodservice – Thoms Proestler Company delivers a full line of fresh meat and produce\, frozen foods\, dry goods\, chemicals and disposables along with ROMA Italian specialty foods.<SPAN style="mso-spacerun: yes">&nbsp\; </SPAN><o:p></o:p></P><P style="MARGIN: 0in 0in 0pt" class=MsoNormal><o:p>&nbsp\;</o:p></P><P style="MARGIN: 0in 0in 0pt" class=MsoNormal>For more information\, please visit <A href="http://www.pfgc.com"><FONT color=#0000ff face="Times New Roman">www.pfgc.com</FONT></A>.</P><P style="MARGIN: 0in 0in 0pt" class=MsoNormal>&nbsp\;</P><P style="MARGIN: 0in 0in 0pt" class=MsoNormal>Rene Hipple\, Senior Vice President of Membership will be speaking on behalf of the Quad Cities Chamber of Commerce.&nbsp\; </P><P style="MARGIN: 0in 0in 0pt" class=MsoNormal><o:p></o:p>&nbsp\;</P><P></FONT></P>
LOCATION:Performance Food Group8001 TPC Rd. Rock Island\, IL 61204
UID:e.2843.784
SEQUENCE:3
DTSTAMP:20260422T081128Z
URL:https://member.quadcitieschamber.com/events/details/performance-foodservice-thoms-proestler-co-20-year-anniversary-ribbon-cutting-04-04-2014-784
END:VEVENT

END:VCALENDAR
