BEGIN:VCALENDAR
VERSION:2.0
PRODID:-//ChamberMaster//Event Calendar 2.0//EN
METHOD:PUBLISH
X-PUBLISHED-TTL:P3D
REFRESH-INTERVAL:P3D
CALSCALE:GREGORIAN
BEGIN:VEVENT
DTSTART:20191115T170000Z
DTEND:20191115T190000Z
X-MICROSOFT-CDO-ALLDAYEVENT:FALSE
SUMMARY:Pink Heals Community Open House
DESCRIPTION:The Pink Heals is a non-profit organization which supports cancer fighters and survivors. They will be bringing their pink fire truck to The Merrill Hotel on Friday\, November 15th from 11am-1pm and we're inviting the community out to welcome them and sign the truck! Enjoy the Pink Ta Ta Tini in Maxwell's through November 15th and we'll donate $1 from each drink to the Pink Heals Sauk Valley Chapter.
X-ALT-DESC;FMTTYPE=text/html:<span style="color:rgb(29\, 33\, 41)\; font-family:helvetica\,arial\,sans-serif\; font-size:14px">The Pink Heals is a non-profit organization which supports cancer fighters and survivors. They will be bringing their pink fire truck to The Merrill Hotel on Friday\, November 15th from 11am-1pm and we&#39\;re inviting the community out to welcome them and sign the truck! Enjoy the Pink Ta Ta Tini in Maxwell&#39\;s through November 15th and we&#39\;ll donate $1 from each drink to the Pink Heals Sauk Valley Chapter.</span>
LOCATION:The Merrill Hotel\, Muscatine\, A Tribute Portfolio Hotel 119 West Mississippi Drive Muscatine\, IA 52761
UID:e.2843.16959
SEQUENCE:3
DTSTAMP:20260422T082907Z
URL:https://member.quadcitieschamber.com/events/details/pink-heals-community-open-house-16959
END:VEVENT

END:VCALENDAR
