BEGIN:VCALENDAR
VERSION:2.0
PRODID:-//ChamberMaster//Event Calendar 2.0//EN
METHOD:PUBLISH
X-PUBLISHED-TTL:P3D
REFRESH-INTERVAL:P3D
CALSCALE:GREGORIAN
BEGIN:VEVENT
DTSTART:20180211T010000Z
DTEND:20180211T040000Z
X-MICROSOFT-CDO-ALLDAYEVENT:FALSE
SUMMARY:Pink in the Rink for NormaLeah
DESCRIPTION:NormaLeah Ovarian Cancer Initiative is teaming up with the Quad City Mallards for the first annual Pink in the Rink! This very special event will celebrate all who have been impacted by cancer and include organizations such as NormaLeah\, Gilda's Club Quad Cities\, Pink Pajama Party of the Quad Cities and American Cancer Society. Wear your favorite teal shirt to celebrate and represent our teal sisters! The Quad City Mallards take on the Fort Wayne Komets Saturday\, February 10th at 7pm. Tickets are discounted at $15 each with $5 supporting NormaLeah and our early detection education programs. Order today by calling Devin at 309-277-1327 and mention NormaLeah for the discount! Tickets must be purchased before Wednesday\, February 7th. Everyone who purchases a ticket in advance will receive one entry into a raffle to win an autographed hockey stick from the Mallards team! Additional entries can be purchased that night along with our exclusive Bling4Cancer jewelry. On Wednesday\, February 7th from 9am-9pm\, all are invited to the Tax Slayer Center to Paint the Rink Pink! This is a wonderful opportunity to honor someone impacted by cancer as their name will be painted on the ice and played on Saturday night! Interested in volunteering at the event? Contact us at 309-794-0009.
X-ALT-DESC;FMTTYPE=text/html:NormaLeah Ovarian Cancer Initiative is teaming up with the Quad City Mallards for the first annual Pink in the Rink! This very special event will celebrate all who have been impacted by cancer and include organizations such as NormaLeah\, Gilda&rsquo\;s Club Quad Cities\, Pink Pajama Party of the Quad Cities and American Cancer Society. Wear your favorite teal shirt to celebrate and represent our teal sisters! The Quad City Mallards take on the Fort Wayne Komets Saturday\, February 10th at 7pm. Tickets are discounted at $15 each with $5 supporting NormaLeah and our early detection education programs. Order today by calling Devin at 309-277-1327 and mention NormaLeah for the discount! Tickets must be purchased before Wednesday\, February 7th. Everyone who purchases a ticket in advance will receive one entry into a raffle to win an autographed hockey stick from the Mallards team! Additional entries can be purchased that night along with our exclusive Bling4Cancer jewelry. On Wednesday\, February 7th from 9am-9pm\, all are invited to the Tax Slayer Center to Paint the Rink Pink! This is a wonderful opportunity to honor someone impacted by cancer as their name will be painted on the ice and played on Saturday night! Interested in volunteering at the event? Contact us at 309-794-0009.
LOCATION:Tax Slayer Center Moline\, IL 1601 River Drive Moline\, IL 61265
UID:e.2843.9946
SEQUENCE:3
DTSTAMP:20260423T152943Z
URL:https://member.quadcitieschamber.com/events/details/pink-in-the-rink-for-normaleah-9946
END:VEVENT

END:VCALENDAR
