BEGIN:VCALENDAR
VERSION:2.0
PRODID:-//ChamberMaster//Event Calendar 2.0//EN
METHOD:PUBLISH
X-PUBLISHED-TTL:P3D
REFRESH-INTERVAL:P3D
CALSCALE:GREGORIAN
BEGIN:VEVENT
DTSTART:20130504T140000Z
DTEND:20130504T200000Z
X-MICROSOFT-CDO-ALLDAYEVENT:FALSE
SUMMARY:Plant Sale
DESCRIPTION:Sale of perennial plants from our gardens and annuals perennials started  from seed in our greenhouse.
X-ALT-DESC;FMTTYPE=text/html:Sale of perennial plants from our gardens and annuals perennials started  from seed in our greenhouse. \n
LOCATION:Pine Hill Cemetery1530 E 39th St Davenport\, IA 52807
UID:e.2843.79
SEQUENCE:3
DTSTAMP:20260421T120941Z
URL:https://member.quadcitieschamber.com/events/details/plant-sale-05-04-2013-79
END:VEVENT

END:VCALENDAR
