BEGIN:VCALENDAR
VERSION:2.0
PRODID:-//ChamberMaster//Event Calendar 2.0//EN
METHOD:PUBLISH
X-PUBLISHED-TTL:P3D
REFRESH-INTERVAL:P3D
CALSCALE:GREGORIAN
BEGIN:VEVENT
DTSTART:20090724T050000Z
DTEND:20090724T050000Z
X-MICROSOFT-CDO-ALLDAYEVENT:FALSE
SUMMARY:PM Event: Street Fest VIP Party
DESCRIPTION:PM Event: Street Fest VIP Party
X-ALT-DESC;FMTTYPE=text/html:PM Event: Street Fest VIP Party
LOCATION:
UID:e.2843.4179
SEQUENCE:3
DTSTAMP:20260424T074106Z
URL:https://member.quadcitieschamber.com/events/details/pm-event-street-fest-vip-party-07-24-2009-4179
END:VEVENT

END:VCALENDAR
