BEGIN:VCALENDAR
VERSION:2.0
PRODID:-//ChamberMaster//Event Calendar 2.0//EN
METHOD:PUBLISH
X-PUBLISHED-TTL:P3D
REFRESH-INTERVAL:P3D
CALSCALE:GREGORIAN
BEGIN:VEVENT
DTSTART:20170223T233000Z
DTEND:20170224T013000Z
X-MICROSOFT-CDO-ALLDAYEVENT:FALSE
SUMMARY:Politics & Pints
DESCRIPTION:Join us as we connect members with elected officials from across the political spectrum in an atmosphere that promotes conversation and networking. Enjoy pints along with conversation about what's hot in business\, community\, and politics. Whether you are a young entrepreneur or a savvy business executive\, we bet you'll have a good time and find new connections.\n\n\n\nCancellation Policy:\n\nCancellations must be received at least 72 hours in advance in order to receive a registration refund. You may transfer your registration to another person within your company at no additional cost.
X-ALT-DESC;FMTTYPE=text/html:<div style="FONT-FAMILY: Arial">\n<div style="FONT-FAMILY: Arial">\n<p class="MsoNormal" style="LINE-HEIGHT: normal\; MARGIN: 0in 0in 0pt"><span style="FONT-SIZE: 12pt\; mso-ascii-font-family: Calibri\; mso-fareast-font-family: 'Times New Roman'\; mso-hansi-font-family: Calibri\; mso-bidi-font-family: 'Times New Roman'">Join us as we&nbsp\;connect members with elected officials from across the political spectrum in an atmosphere that promotes conversation and networking. Enjoy pints along with conversation about what&#39\;s hot in business\, community\, and politics. Whether you are a young entrepreneur or a savvy business executive\, we bet you&#39\;ll have a good time and find new connections.</span><br />\n<br />\n<span style="font-size:16px\;"><span style="font-family:arial\;"><u>Cancellation Policy:</u><br />\nCancellations must be received at least 72 hours in advance in order to receive a registration refund. You may transfer your registration to another person within your company at no additional cost.</span></span></p>\n</div>\n</div>\n
LOCATION:MetroLINK Centre Station 1200 River Drive Moline\, IL
UID:e.2843.1450
SEQUENCE:3
DTSTAMP:20260424T070519Z
URL:https://member.quadcitieschamber.com/events/details/politics-pints-12-15-2016-1450
END:VEVENT

END:VCALENDAR
