BEGIN:VCALENDAR
VERSION:2.0
PRODID:-//ChamberMaster//Event Calendar 2.0//EN
METHOD:PUBLISH
X-PUBLISHED-TTL:P3D
REFRESH-INTERVAL:P3D
CALSCALE:GREGORIAN
BEGIN:VEVENT
DTSTART:20141023T223000Z
DTEND:20141024T003000Z
X-MICROSOFT-CDO-ALLDAYEVENT:FALSE
SUMMARY:Politics & Pints 2014
DESCRIPTION:You will not want to miss the inaugural Politics & Pints!  This brand new event will connect members with elected officials from across the political spectrum in an atmosphere that promotes conversation and networking. Enjoy pints along with conversation about what's hot in business\, community\, and politics. Whether you are a young entrepreneur or a savvy business executive\, we bet you'll have a good time and find new connections.
X-ALT-DESC;FMTTYPE=text/html:<DIV style="FONT-FAMILY: Arial"><P class=MsoNormal style="MARGIN: 0in 0in 0pt"><FONT face=Calibri>You will not want to miss the inaugural Politics &amp\; Pints! </FONT></P><P class=MsoNormal style="MARGIN: 0in 0in 0pt"><FONT face=Calibri></FONT>&nbsp\;</P><P class=MsoNormal style="MARGIN: 0in 0in 0pt"><FONT face=Calibri>This brand new event will connect members with elected officials from across the political spectrum in an atmosphere that promotes conversation and networking. Enjoy pints along with conversation about what's hot in business\, community\, and politics. Whether you are a young entrepreneur or a savvy business executive\, we bet you'll have a good time and find new connections.<?xml:namespace prefix = "o" ns = "urn:schemas-microsoft-com:office:office" /><o:p></o:p></FONT></P></DIV>
LOCATION:Freight House421 W River Dr Davenport\, IA 52801
UID:e.2843.887
SEQUENCE:3
DTSTAMP:20260422T192654Z
URL:https://member.quadcitieschamber.com/events/details/politics-pints-2014-10-23-2014-887
END:VEVENT

END:VCALENDAR
