BEGIN:VCALENDAR
VERSION:2.0
PRODID:-//ChamberMaster//Event Calendar 2.0//EN
METHOD:PUBLISH
X-PUBLISHED-TTL:P3D
REFRESH-INTERVAL:P3D
CALSCALE:GREGORIAN
BEGIN:VEVENT
DTSTART:20180209T173000Z
DTEND:20180209T190000Z
X-MICROSOFT-CDO-ALLDAYEVENT:FALSE
SUMMARY:POSTPONED: Illinois Legislative Luncheon
DESCRIPTION:Due to weather conditions this event has been postponed! Stay tuned for an announcement for a rescheduled date.\n\n\n\nLegislative luncheon events provide Chamber members and their employees the opportunity to establish relationships with key policy makers and voice views on issues moving in the legislature. Networking and a facilitated question and answer session offer firsthand information on upcoming legislation and House and Senator committee activities. Utilize this event to connect with legislators and Chamber members to advocate for policies that will support growing the Quad Cities economy.\n\n\n\nThe following legislators are scheduled to join us at this luncheon:\n\nSen. Neil Anderson\n\nRep. Mike Halpin\n\nRep. Tony McCombie\n\nRep. Dan Swanson\n\n\n\n\n\n \n\n*If you need any special requirements to attend this meeting please contact Gwen Tombergs at gtombergs@quadcitieschamber.com
X-ALT-DESC;FMTTYPE=text/html:<p><span style="font-size: 12pt\;"><span style="color:#FF0000\;"><font face="arial">Due</font> to weather conditions this event has been postponed! Stay tuned for an announcement for a rescheduled date.</span><br />\n<br />\nLegislative&nbsp\;</span><span style="font-size: 16px\;"><span style="font-family: arial\;">luncheon events provide Chamber members and their employees the opportunity to establish relationships with key policy makers and voice views on issues moving in the legislature. Networking and a facilitated question and answer session offer firsthand information on upcoming legislation and House and Senator committee activities. Utilize this event to connect with legislators and Chamber members to advocate for policies that will support growing the Quad Cities economy.<br />\n<br />\nThe following legislators are scheduled to join us at this luncheon:</span></span><br />\n<span style="font-size:14px\;">Sen. Neil Anderson<br />\nRep. Mike Halpin<br />\nRep. Tony McCombie<br />\nRep. Dan Swanson</span><br />\n<br />\n<br />\n&nbsp\;<br />\n<span style="background-image: initial\; background-position: initial\; background-size: initial\; background-repeat: initial\; background-attachment: initial\; background-origin: initial\; background-clip: initial\;"><span style="font-family: arial\, sans-serif\; letter-spacing: -0.15pt\; font-size: 14pt\;">*If you need any special requirements to attend this meeting please contact Gwen&nbsp\;Tombergs&nbsp\;at&nbsp\;<span style="color:#0000CD\;"><u>gtombergs@quadcitieschamber.com</u></span></span></span></p>\n
LOCATION:Holiday Inn- Rock Island 226 17th St Rock Island\, IL 61201
UID:e.2843.8824
SEQUENCE:3
DTSTAMP:20260423T165540Z
URL:https://member.quadcitieschamber.com/events/details/postponed-illinois-legislative-luncheon-8824
END:VEVENT

END:VCALENDAR
