BEGIN:VCALENDAR
VERSION:2.0
PRODID:-//ChamberMaster//Event Calendar 2.0//EN
METHOD:PUBLISH
X-PUBLISHED-TTL:P3D
REFRESH-INTERVAL:P3D
CALSCALE:GREGORIAN
BEGIN:VEVENT
DTSTART:20130912T210000Z
DTEND:20130912T213000Z
X-MICROSOFT-CDO-ALLDAYEVENT:FALSE
SUMMARY:Power Grafx Ribbon Cutting
DESCRIPTION:Please join Power Grafx in celebrating the grand opening of their new location on Thursday\, September 12th at 4:00 p.m. – Located at 3805 Hickory Grove Rd.  Power Grafx specializes in screen printing\, embroidery\, and large format printing in-house. They also provide promotional products.  For more information\, please visit www.powergrafxinc.com. Thank You\,
X-ALT-DESC;FMTTYPE=text/html:<DIV style="FONT-FAMILY: Arial"><P style="MARGIN: 0in 0in 0pt" class=MsoNormal><FONT face=Calibri>Please join Power Grafx in celebrating the grand opening of their new location on <B style="mso-bidi-font-weight: normal">Thursday\, September 12<SUP>th</SUP> at 4:00 p.m.</B> – Located at 3805 Hickory Grove Rd. <?xml:namespace prefix = o ns = "urn:schemas-microsoft-com:office:office" /><o:p></o:p></FONT></P><P style="MARGIN: 0in 0in 0pt" class=MsoNormal><o:p><FONT face=Calibri>&nbsp\;</FONT></o:p></P><P style="MARGIN: 0in 0in 0pt" class=MsoNormal><FONT face=Calibri>Power Grafx specializes in screen printing\, embroidery\, and large format printing in-house. They also provide promotional products. <o:p></o:p></FONT></P><P style="MARGIN: 0in 0in 0pt" class=MsoNormal><o:p><FONT face=Calibri>&nbsp\;</FONT></o:p></P><P style="MARGIN: 0in 0in 0pt" class=MsoNormal><FONT face=Calibri>For more information\, please visit </FONT><A href="http://www.powergrafxinc.com"><FONT face="Times New Roman">www.powergrafxinc.com</FONT></A><FONT face=Calibri>.<o:p></o:p></FONT></P><P style="MARGIN: 0in 0in 0pt" class=MsoNormal><FONT face=Calibri><SPAN style="mso-spacerun: yes">&nbsp\;</SPAN><o:p></o:p></FONT></P><P style="MARGIN: 0in 0in 0pt" class=MsoNormal><FONT face=Calibri>Thank You\, <o:p></o:p></FONT></P></DIV>
LOCATION:Power Grafx3805 Hickory Grove Rd. Davenport\, IA 52806
UID:e.2843.684
SEQUENCE:3
DTSTAMP:20260421T185527Z
URL:https://member.quadcitieschamber.com/events/details/power-grafx-ribbon-cutting-09-12-2013-684
END:VEVENT

END:VCALENDAR
