BEGIN:VCALENDAR
VERSION:2.0
PRODID:-//ChamberMaster//Event Calendar 2.0//EN
METHOD:PUBLISH
X-PUBLISHED-TTL:P3D
REFRESH-INTERVAL:P3D
CALSCALE:GREGORIAN
BEGIN:VEVENT
DTSTART:20181012T123000Z
DTEND:20181012T170000Z
X-MICROSOFT-CDO-ALLDAYEVENT:FALSE
SUMMARY:Power Up Your Work Force 2018: Best in Class Employer Strategies for Controlling Workers' Compensation Costs
DESCRIPTION:Come and join Athletico Physical Therapy for a dynamic Workers' Compensation Breakfast Seminar. There is no charge for the seminar. Topics to include: \n\n	Updates in Workers' Compensation Legislation\n	Using Engagement to Power Your Safety Program\n	Ergonomics\, Work Station Analysis and Job Analysis -  A New Era of Wellness and Prevention Strategies\n\nContact Hours (CEUs) offered for RN\, CCMC\, CRCC\, HR\, IL RN and Texas Department of Insurance.\n\nPlease contact Eric Allen (eric.allen@athletico.com) for registration details.
X-ALT-DESC;FMTTYPE=text/html:Come and join Athletico Physical Therapy for a dynamic Workers&#39\; Compensation Breakfast Seminar. There is no charge for the seminar. Topics to include:&nbsp\;\n<ul>\n	<li>Updates in Workers&#39\; Compensation Legislation</li>\n	<li>Using Engagement to Power Your Safety Program</li>\n	<li>Ergonomics\, Work Station Analysis and Job Analysis -&nbsp\; A New Era of Wellness and Prevention Strategies</li>\n</ul>\nContact Hours (CEUs) offered for RN\, CCMC\, CRCC\, HR\, IL RN and Texas Department of Insurance.<br />\nPlease contact Eric Allen (<a href="mailto:eric.allen@athletico.com">eric.allen@athletico.com</a>) for registration details.
LOCATION:TaxSlayer Center Moline\, IL
UID:e.2843.13494
SEQUENCE:3
DTSTAMP:20260423T030155Z
URL:https://member.quadcitieschamber.com/events/details/power-up-your-work-force-2018-best-in-class-employer-strategies-for-controlling-workers-compensation-costs-13494
END:VEVENT

END:VCALENDAR
