BEGIN:VCALENDAR
VERSION:2.0
PRODID:-//ChamberMaster//Event Calendar 2.0//EN
METHOD:PUBLISH
X-PUBLISHED-TTL:P3D
REFRESH-INTERVAL:P3D
CALSCALE:GREGORIAN
BEGIN:VEVENT
DTSTART:20190309T153000Z
DTEND:20190309T180000Z
X-MICROSOFT-CDO-ALLDAYEVENT:FALSE
SUMMARY:Prairie Management
DESCRIPTION:Come and learn proper care of a natural prairie. Fairmount Cemetery has one of the last remnant prairie ground. Nahant Marsh is helping us maintain the prairie and will be doing a presentation in Fairmount Cemetery Chapel.
X-ALT-DESC;FMTTYPE=text/html:Come and learn proper care of a natural prairie. Fairmount Cemetery has one of the last remnant prairie ground. Nahant Marsh is helping us maintain the prairie and will be doing a presentation in Fairmount Cemetery Chapel.
LOCATION:Fairmount Cemetery and Crematory. Held in chapel building. 3209 Rockingham Rd\, Davenport
UID:e.2843.13794
SEQUENCE:3
DTSTAMP:20260422T181252Z
URL:https://member.quadcitieschamber.com/events/details/prairie-management-13794
END:VEVENT

END:VCALENDAR
