BEGIN:VCALENDAR
VERSION:2.0
PRODID:-//ChamberMaster//Event Calendar 2.0//EN
METHOD:PUBLISH
X-PUBLISHED-TTL:P3D
REFRESH-INTERVAL:P3D
CALSCALE:GREGORIAN
BEGIN:VEVENT
DTSTART:20140207T180000Z
DTEND:20140207T183000Z
X-MICROSOFT-CDO-ALLDAYEVENT:FALSE
SUMMARY:Premier Employee Solutions Grand Opening Ribbon Cutting
DESCRIPTION:Please join Premier Employee Solutions\, located at 1035 Lincoln Rd. Bettendorf\, IA 52722 Suite 203\, in celebrating the grand opening of their new location.  The grand opening ribbon cutting and open house will take place on Friday\, February 7th at 12:00pm.   Regardless of the product or service\, the professional or technical talent needed and regardless of your company's size or location(s)\, Premier Employee Solutions makes it their mission to understand exactly the program businesses want and put it to work for their organization. Premier Employee Solutions provides staffing\, direct placement\, safety consulting\, risk management\, payroll\, administration\, personal human resources\, workers compensation services and employee benefit programs.    For more information\, please visit www.premieremployees.com.      Kristin Glass\, Vice President\, Member Investor Relations\, will be speaking on behalf of the Quad Cities Chamber of Commerce.
X-ALT-DESC;FMTTYPE=text/html:<P style="MARGIN: 0in 0in 0pt" class=MsoNormal><FONT face=Calibri><SPAN style="mso-spacerun: yes">Please join Premier Employee Solutions\, located at 1035 Lincoln Rd. Bettendorf\, IA 52722 Suite 203\, in celebrating the grand opening of their new location.<SPAN style="mso-spacerun: yes">&nbsp\; </SPAN>The grand opening ribbon cutting and open house will take place on <B style="mso-bidi-font-weight: normal">Friday\, February 7<SUP>th</SUP> at 12:00pm</B>.<SPAN style="mso-spacerun: yes">&nbsp\; </SPAN><?xml:namespace prefix = o ns = "urn:schemas-microsoft-com:office:office" /><o:p></o:p></P><P style="MARGIN: 0in 0in 0pt" class=MsoNormal><o:p>&nbsp\;</o:p></P><P style="MARGIN: 0in 0in 0pt" class=MsoNormal>Regardless of the product or service\, the professional or technical talent needed and regardless of your company's size or location(s)\, Premier Employee Solutions makes it their mission to understand exactly the program businesses want and put it to work for their organization.<o:p></o:p></P><P style="MARGIN: 0in 0in 0pt" class=MsoNormal><o:p>&nbsp\;</o:p></P><P style="MARGIN: 0in 0in 0pt" class=MsoNormal>Premier Employee Solutions provides staffing\, direct placement\, safety consulting\, risk management\, payroll\, administration\, personal human resources\, workers compensation services and employee benefit programs. <SPAN style="mso-spacerun: yes">&nbsp\;&nbsp\;</SPAN><o:p></o:p></P><P style="MARGIN: 0in 0in 0pt" class=MsoNormal><o:p>&nbsp\;</o:p></P><P style="MARGIN: 0in 0in 0pt" class=MsoNormal>For more information\, please visit <A href="http://www.premieremployees.com"><FONT color=#0000ff face="Times New Roman">www.premieremployees.com</FONT></A>.<SPAN style="mso-spacerun: yes">&nbsp\;&nbsp\;&nbsp\;&nbsp\; </SPAN><o:p></o:p></P><P style="MARGIN: 0in 0in 0pt" class=MsoNormal><o:p>&nbsp\;</o:p></P><P style="MARGIN: 0in 0in 0pt" class=MsoNormal>Kristin Glass\, Vice President\, Member Investor Relations\, will be speaking on behalf of the Quad Cities Chamber of Commerce.<o:p></o:p></P><P style="MARGIN: 0in 0in 0pt" class=MsoNormal></SPAN></FONT><o:p></o:p>&nbsp\;</P><P>&nbsp\;</P>
LOCATION:Premier Employee Solutions1035 Lincoln Rd. Bettendorf\, IA 52722
UID:e.2843.772
SEQUENCE:3
DTSTAMP:20260422T031702Z
URL:https://member.quadcitieschamber.com/events/details/premier-employee-solutions-grand-opening-ribbon-cutting-02-07-2014-772
END:VEVENT

END:VCALENDAR
