BEGIN:VCALENDAR
VERSION:2.0
PRODID:-//ChamberMaster//Event Calendar 2.0//EN
METHOD:PUBLISH
X-PUBLISHED-TTL:P3D
REFRESH-INTERVAL:P3D
CALSCALE:GREGORIAN
BEGIN:VEVENT
DTSTART:20190606T170000Z
DTEND:20190606T180000Z
X-MICROSOFT-CDO-ALLDAYEVENT:FALSE
SUMMARY:Press\, Promotion and Business Pitch Workshop - Chamber members only
DESCRIPTION:Press\, Promotion and Business Pitch Workshop   Chamber members only\n\n \n\nThese meetings are open to Chamber members only\, and are held the first Thursday of every month from Noon - 1:00 p.m. During the workshop\, members will receive a press release template and samples as well as a local media list.
X-ALT-DESC;FMTTYPE=text/html:<strong><span style="font-family:arial\,sans-serif\;">Press\, Promotion and Business Pitch Workshop &ndash\; Chamber members only</span></strong><br />\n&nbsp\;<br />\n<span style="font-family:arial\,sans-serif\;">These meetings are open to Chamber members only\, and are held the first Thursday of every month from Noon - 1:00 p.m. During the workshop\, members will receive a press release template and samples as well as a local media list.</span><br />\n&nbsp\;
LOCATION:Quad Cities Chamber Arconic Conference Room 331 W. Third St.\, Suite 100 Davenport\, IA 52801
UID:e.2843.13681
SEQUENCE:3
DTSTAMP:20260422T131657Z
URL:https://member.quadcitieschamber.com/events/details/press-promotion-and-business-pitch-workshop-chamber-members-only-13681
END:VEVENT

END:VCALENDAR
