BEGIN:VCALENDAR
VERSION:2.0
PRODID:-//ChamberMaster//Event Calendar 2.0//EN
METHOD:PUBLISH
X-PUBLISHED-TTL:P3D
REFRESH-INTERVAL:P3D
CALSCALE:GREGORIAN
BEGIN:VEVENT
DTSTART:20180920T213000Z
DTEND:20180920T223000Z
X-MICROSOFT-CDO-ALLDAYEVENT:FALSE
SUMMARY:Public Policy Input Session: Quality of Place
DESCRIPTION:Please join the Chamber for our Public Policy Input Sessions\, so your voice and opinion on issues can be heard. The Quad Cities Chamber actively engages with government officials on all levels to promote good policies that will help grow the Quad Cities' economy. We are asking our members to let us know what issues are important to your business\, obstacles need to be overcome\, or policies that could enhance the regional economy. The Chamber strongly encourages our members to join us and get active in our advocacy. These input sessions are a great way for anyone interested to start getting involved!\n\n \n\nSeptember 20: 4:30 - 5:30 p.m.\n\nMoline Chamber Office\, 1601 River Dr. Suite 310\n\n-        Support and engage in long-term visioning/planning related to enhancing and improving our world-class riverfronts.\n\n-        Support and engage in long-term visioning/planning related to creating and maintaining attractive and vibrant downtowns.\n\n-       Advocate for policies and mechanisms that will support and sustain key cultural institutions and amenities.\n\n-        Back quality of life initiatives in the Regional Vision that support workforce attraction and retention
X-ALT-DESC;FMTTYPE=text/html:<div style="FONT-FAMILY: Arial">\n<p class="MsoNormal" style="MARGIN: 0in 0in 0pt"><span style="FONT-FAMILY: &quot\;Arial&quot\;\,&quot\;sans-serif&quot\;">Please join the Chamber for our Public Policy Input Sessions\, so your voice and opinion on issues can be heard. The Quad Cities Chamber actively engages with government officials on all levels to promote good policies that will help grow the Quad Cities&#39\; economy. We are asking our members to let us know what issues are important to your business\, obstacles need to be overcome\, or policies that&nbsp\;could enhance the regional economy. The Chamber strongly encourages our members to join us and get active in our advocacy. These input sessions are a great way for anyone interested to start getting involved!<!--?xml:namespace prefix = "o" ns = "urn:schemas-microsoft-com:office:office" /--><o:p></o:p></span></p>\n\n<p class="MsoNormal" style="MARGIN: 0in 0in 0pt"><span style="FONT-FAMILY: &quot\;Arial&quot\;\,&quot\;sans-serif&quot\;"><o:p></o:p></span>&nbsp\;</p>\n<span style="FONT-FAMILY: &quot\;Arial&quot\;\,&quot\;sans-serif&quot\;"><o:p>\n<p class="MsoNormal" style="MARGIN: 0in 0in 0pt"><span style="FONT-FAMILY: &quot\;Arial&quot\;\,&quot\;sans-serif&quot\;">September 20: 4:30 - 5:30 p.m.<o:p></o:p></span></p>\n\n<p class="MsoNormal" style="MARGIN: 0in 0in 0pt"><span style="FONT-FAMILY: &quot\;Arial&quot\;\,&quot\;sans-serif&quot\;">Moline Chamber Office\, 1601 River Dr. Suite 310<o:p></o:p></span></p>\n\n<p class="MsoListParagraph" style="MARGIN: 0in 0in 0pt 0.5in\; TEXT-INDENT: -0.25in\; mso-list: l0 level1 lfo1"><span style="FONT-FAMILY: Symbol\; mso-fareast-font-family: Symbol\; mso-bidi-font-family: Symbol"><span style="mso-list: Ignore"><span style="FONT: 7pt &quot\;Times New Roman&quot\;"><font face="Symbol" size="3">-</font>&nbsp\;&nbsp\;&nbsp\;&nbsp\;&nbsp\;&nbsp\;&nbsp\; </span></span></span><span style="FONT-FAMILY: &quot\;Arial&quot\;\,&quot\;sans-serif&quot\;">Support and engage in long-term visioning/planning related to enhancing and improving our world-class riverfronts.<o:p></o:p></span></p>\n\n<p class="MsoListParagraph" style="MARGIN: 0in 0in 0pt 0.5in\; TEXT-INDENT: -0.25in\; mso-list: l0 level1 lfo1"><span style="FONT-FAMILY: Symbol\; mso-fareast-font-family: Symbol\; mso-bidi-font-family: Symbol"><span style="mso-list: Ignore"><span style="FONT: 7pt &quot\;Times New Roman&quot\;"><font face="Symbol" size="3">-</font>&nbsp\;&nbsp\;&nbsp\;&nbsp\;&nbsp\;&nbsp\;&nbsp\; </span></span></span><span style="FONT-FAMILY: &quot\;Arial&quot\;\,&quot\;sans-serif&quot\;">Support and engage in long-term visioning/planning related to creating and maintaining attractive and vibrant downtowns.<o:p></o:p></span></p>\n\n<p class="MsoListParagraph" style="MARGIN: 0in 0in 0pt 0.5in\; TEXT-INDENT: -0.25in\; mso-list: l0 level1 lfo1"><span style="FONT-FAMILY: Symbol\; mso-fareast-font-family: Symbol\; mso-bidi-font-family: Symbol"><span style="mso-list: Ignore"><span style="FONT: 7pt &quot\;Times New Roman&quot\;"><font face="Symbol" size="3">-</font>&nbsp\;&nbsp\;&nbsp\;&nbsp\;&nbsp\;&nbsp\; </span></span></span><span style="FONT-FAMILY: &quot\;Arial&quot\;\,&quot\;sans-serif&quot\;">Advocate for policies and mechanisms that will support and sustain key cultural institutions and amenities.<o:p></o:p></span></p>\n\n<p class="MsoListParagraph" style="MARGIN: 0in 0in 0pt 0.5in\; TEXT-INDENT: -0.25in\; mso-list: l0 level1 lfo1"><span style="FONT-FAMILY: Symbol\; mso-fareast-font-family: Symbol\; mso-bidi-font-family: Symbol"><span style="mso-list: Ignore"><span style="FONT: 7pt &quot\;Times New Roman&quot\;"><font face="Symbol" size="3">-</font>&nbsp\;&nbsp\;&nbsp\;&nbsp\;&nbsp\;&nbsp\;&nbsp\; </span></span></span><span style="FONT-FAMILY: &quot\;Arial&quot\;\,&quot\;sans-serif&quot\;">Back quality of life initiatives in the Regional Vision that support workforce attraction and retention<o:p></o:p></span></p>\n\n<p class="MsoNormal" style="MARGIN: 0in 0in 0pt">&nbsp\;</p>\n</o:p></span></div>\n
LOCATION:Quad Cities Chamber of Commerce 1601 River Dr. Suite 310 Moline\, IL 61265
UID:e.2843.13433
SEQUENCE:3
DTSTAMP:20260423T043249Z
URL:https://member.quadcitieschamber.com/events/details/public-policy-input-session-quality-of-place-13433
END:VEVENT

END:VCALENDAR
