BEGIN:VCALENDAR
VERSION:2.0
PRODID:-//ChamberMaster//Event Calendar 2.0//EN
METHOD:PUBLISH
X-PUBLISHED-TTL:P3D
REFRESH-INTERVAL:P3D
CALSCALE:GREGORIAN
BEGIN:VEVENT
DTSTART:20170818T210000Z
DTEND:20170818T223000Z
X-MICROSOFT-CDO-ALLDAYEVENT:FALSE
SUMMARY:Public Policy Input Session: Transportation & Infrastructure\, and Quality of Place
DESCRIPTION:The Quad Cities Chamber actively engages with government officials on all levels to promote good politics that will help grow the Quad Cities economy.  We are interested in learning more about what is important to you and your business\, so that we can better shape a public policy agenda that reflects our members' interests.\n\n \n\nThis session focuses on Transportation & Infrastructure\, and Quality of Place
X-ALT-DESC;FMTTYPE=text/html:<span style="font-size:14px\;"><span style="color:black\;">The Quad Cities Chamber actively engages with government officials on all levels to promote good politics that will help grow the Quad Cities economy. &nbsp\;We are interested in learning more about what is important to you and your </span></span><span style="color:black\;"><span style="font-size:14px\;">business\,</span></span><span style="font-size:14px\;"><span style="color:black\;"> so that we can better shape a public policy agenda that reflects our members&#39\; interests.</span><br />\n&nbsp\;<br />\n<span style="color:black\;">This session focuses on&nbsp\;</span>Transportation &amp\; Infrastructure\, and Quality of Place</span>
LOCATION:Quad Cities Chamber of Commerce Moline office 1601 River Dr. Moline IL 61265
UID:e.2843.6358
SEQUENCE:3
DTSTAMP:20260424T004250Z
URL:https://member.quadcitieschamber.com/events/details/public-policy-input-session-transportation-infrastructure-and-quality-of-place-6358
END:VEVENT

END:VCALENDAR
