BEGIN:VCALENDAR
VERSION:2.0
PRODID:-//ChamberMaster//Event Calendar 2.0//EN
METHOD:PUBLISH
X-PUBLISHED-TTL:P3D
REFRESH-INTERVAL:P3D
CALSCALE:GREGORIAN
BEGIN:VEVENT
DTSTART:20130917T220000Z
DTEND:20130917T223000Z
X-MICROSOFT-CDO-ALLDAYEVENT:FALSE
SUMMARY:QC Barbell Davenport Grand Opening
DESCRIPTION:Please join owner Joshua Beazley of QC Barbell Davenport in celebrating the grand opening of his new location on Tuesday\, September 17th at 5:00 p.m. – Located at 901 East Kimberly Rd. Suite 28 (in Old Town Mall).  http://mapq.st/15KrBFC.  QC Barbell Davenport is on the leading edge of strength training\, power lifting\, sports performance and weight loss coaching.  They strive to help people reach their goals inside and outside of the gym.   For more information\, please visit www.qcbarbelldavenport.com.  Thank You\,
X-ALT-DESC;FMTTYPE=text/html:<DIV style="FONT-FAMILY: Arial"><P style="MARGIN: 0in 0in 0pt" class=MsoNormal><FONT face=Calibri>Please join owner Joshua Beazley of QC Barbell Davenport in celebrating the grand opening of his new location on <B style="mso-bidi-font-weight: normal">Tuesday\, September 17<SUP>th</SUP> at 5:00 p.m.</B> – Located at 901 East Kimberly Rd. Suite 28 (in Old Town Mall).<SPAN style="mso-spacerun: yes">&nbsp\; </SPAN></FONT><A href="http://mapq.st/15KrBFC"><FONT face="Times New Roman">http://mapq.st/15KrBFC</FONT></A><FONT face=Calibri>. <?xml:namespace prefix = o ns = "urn:schemas-microsoft-com:office:office" /><o:p></o:p></FONT></P><P style="MARGIN: 0in 0in 0pt" class=MsoNormal><o:p><FONT face=Calibri>&nbsp\;</FONT></o:p></P><P style="MARGIN: 0in 0in 0pt" class=MsoNormal><FONT face=Calibri>QC Barbell Davenport is on the leading edge of strength training\, power lifting\, sports performance and weight loss coaching.<SPAN style="mso-spacerun: yes">&nbsp\; </SPAN>They strive to help people reach their goals inside and outside of the gym.<SPAN style="mso-spacerun: yes">&nbsp\; </SPAN><o:p></o:p></FONT></P><P style="MARGIN: 0in 0in 0pt" class=MsoNormal><o:p><FONT face=Calibri>&nbsp\;</FONT></o:p></P><P style="MARGIN: 0in 0in 0pt" class=MsoNormal><FONT face=Calibri>For more information\, please visit </FONT><A href="http://www.qcbarbelldavenport.com"><FONT face="Times New Roman">www.qcbarbelldavenport.com</FONT></A><FONT face=Calibri>. <o:p></o:p></FONT></P><P style="MARGIN: 0in 0in 0pt" class=MsoNormal><FONT face=Calibri><SPAN style="mso-spacerun: yes">&nbsp\;</SPAN><o:p></o:p></FONT></P><P style="MARGIN: 0in 0in 0pt" class=MsoNormal><FONT face=Calibri>Thank You\, <o:p></o:p></FONT></P></DIV>
LOCATION:QC Barbell901 E. Kimberly Rd. Unit 28 Davenport\, IA 52807
UID:e.2843.687
SEQUENCE:3
DTSTAMP:20260421T184433Z
URL:https://member.quadcitieschamber.com/events/details/qc-barbell-davenport-grand-opening-09-17-2013-687
END:VEVENT

END:VCALENDAR
