BEGIN:VCALENDAR
VERSION:2.0
PRODID:-//ChamberMaster//Event Calendar 2.0//EN
METHOD:PUBLISH
X-PUBLISHED-TTL:P3D
REFRESH-INTERVAL:P3D
CALSCALE:GREGORIAN
BEGIN:VEVENT
DTSTART:20120619T190000Z
DTEND:20120619T193000Z
X-MICROSOFT-CDO-ALLDAYEVENT:FALSE
SUMMARY:QC FORC\, River Action & City of Davenport Ribbon Cutting
DESCRIPTION:Please help Friends of Off Road Cycling\, River Action and the City of Davenport officially open the new trail at Sunderbruch Park on Tuesday\, June 19th at 2:00pm.  For an off-road biker or hiker\, Sunderbruch Park in SW Davenport is the crown jewel trail system in the greater Quad Cities.  Taking on a $5000 grant received by River Action in part with QC Wild Places\, QC FORC (pronounced Fork – Friends of Off Road Cycling) along with the City of Davenport were able to add a new mile-long section of trail adding to the over 5 miles of existing trail that is utilized by mountain bikers and hikers alike.\nFor more information on these groups\, visit www.qcforc.org \, www.riveraction.org \, www.qcwildplaces.com. ***** DIRECTIONS:\n\nFrom I-280 Locust Street exit: Exit I-280 and head East into Davenport. Turn right (South) on Wisconsin. When Wisconsin tees at the stop sign\, turn left (West) onto Telegraph Road. The park is roughly 1/4 mile further on the right side. \n\nFrom I-280 West River Drive exit: Exit I-280 at the West River Drive exit\, head East into Davenport\, turn left (North) on Utah (this is the first road once you exit I-280). At the stop sign\, turn right (West) on Telegraph Road. Continue on Telegraph through one stop sign and the park will be on the right side of the road 1/4 mile further.\n\nFrom downtown Davenport: Head West on 4th Street\, Davenport. This road eventually becomes Telegraph Road at the Waverly Road 4-way stop. Continue on for approx. 1.6 miles and the park will be on the left-hand side of the road.
X-ALT-DESC;FMTTYPE=text/html:<DIV style="FONT-FAMILY: Arial"><P style="MARGIN: 0in 0in 0pt" class=MsoNormal><FONT face=Calibri>Please help Friends of Off Road Cycling\, River Action and the City of Davenport officially open the new trail at Sunderbruch Park on Tuesday\, June 19<SUP>th</SUP> at 2:00pm.<SPAN style="mso-spacerun: yes">&nbsp\; </SPAN>For an off-road biker or hiker\, Sunderbruch Park in SW Davenport is the crown jewel trail system in the greater Quad Cities.<SPAN style="mso-spacerun: yes">&nbsp\; </SPAN>Taking on a $5000 grant received by River Action in part with QC Wild Places\, QC FORC (pronounced Fork – Friends of Off Road Cycling) along with the City of Davenport were able to add a new mile-long section of trail adding to the over 5 miles of existing trail that is utilized by mountain bikers and hikers alike.</FONT></P><FONT face=Calibri><P style="MARGIN: 0in 0in 0pt" class=MsoNormal><BR>For more information on these groups\, visit </FONT><A href="http://www.qcforc.org"><FONT face="Times New Roman">www.qcforc.org</FONT></A><FONT face=Calibri> \, </FONT><A href="http://www.riveraction.org"><FONT face="Times New Roman">www.riveraction.org</FONT></A><FONT face=Calibri> \, </FONT><A href="http://www.qcwildplaces.com"><FONT face="Times New Roman">www.qcwildplaces.com</FONT></A>.</P><P style="MARGIN: 0in 0in 0pt" class=MsoNormal>&nbsp\;</P><P style="MARGIN: 0in 0in 0pt" class=MsoNormal>*****</P><P style="MARGIN: 0in 0in 0pt" class=MsoNormal>&nbsp\;</P><P style="MARGIN: 0in 0in 0pt" class=MsoNormal><SPAN style="FONT-FAMILY: 'Tahoma'\,'sans-serif'\; COLOR: #3e3e3e\; FONT-SIZE: 10pt\; mso-ansi-language: EN" lang=EN>DIRECTIONS:<BR><BR>From I-280 Locust Street exit: Exit I-280 and head East into Davenport. Turn right (South) on Wisconsin. When Wisconsin tees at the stop sign\, turn left (West) onto Telegraph Road. The park is roughly 1/4 mile further on the right side. <BR><BR>From I-280 West River Drive exit: Exit I-280 at the West River Drive exit\, head East into Davenport\, turn left (North) on Utah (this is the first road once you exit I-280). At the stop sign\, turn right (West) on Telegraph Road. Continue on Telegraph through one stop sign and the park will be on the right side of the road 1/4 mile further.<BR><BR>From downtown Davenport: Head West on 4th Street\, Davenport. This road eventually becomes Telegraph Road at the Waverly Road 4-way stop. Continue on for approx. 1.6 miles and the park will be on the left-hand side of the road.</SPAN></P><P style="MARGIN: 0in 0in 0pt" class=MsoNormal>&nbsp\;</P><P style="MARGIN: 0in 0in 0pt" class=MsoNormal>&nbsp\;</P></DIV>
LOCATION:Sunderbruch Park - Davenport
UID:e.2843.393
SEQUENCE:3
DTSTAMP:20260421T235627Z
URL:https://member.quadcitieschamber.com/events/details/qc-forc-river-action-city-of-davenport-ribbon-cutting-06-19-2012-393
END:VEVENT

END:VCALENDAR
