BEGIN:VCALENDAR
VERSION:2.0
PRODID:-//ChamberMaster//Event Calendar 2.0//EN
METHOD:PUBLISH
X-PUBLISHED-TTL:P3D
REFRESH-INTERVAL:P3D
CALSCALE:GREGORIAN
BEGIN:VEVENT
DTSTART:20131120T190000Z
DTEND:20131120T193000Z
X-MICROSOFT-CDO-ALLDAYEVENT:FALSE
SUMMARY:QC Vapes Grand Opening Ribbon Cutting
DESCRIPTION:QC Vapes\, located at 2336 Spruce Hills Dr. Bettendorf\, IA 52722\, will celebrate their grand opening with a ribbon cutting on Wednesday\, November 20 at 1:00pm.  http://mapq.st/1dQ5CDf. Program and Events Coordinator\, Jeanna Trenkamp will be speaking on behalf of the Quad Cities Chamber of Commerce.   QC Vapes is the place to go for all of your vaping needs.  They carry a number of items for customers who are in search of smoking alternatives.  All of QC Vapes e-liquids are made in the U.S. with ingredients from the U.S.  The company sells everything from beginner kits to advanced modifiable items and accessories to make using devices even better.   QC Vapes will be open seven days a week from 11:00am-8:00pm.  For more information\, please visit www.qcvapes.com.
X-ALT-DESC;FMTTYPE=text/html:<P style="MARGIN: 0in 0in 0pt" class=MsoNormal><P style="MARGIN: 0in 0in 0pt" class=MsoNormal><FONT face=Calibri>QC Vapes\, <B style="mso-bidi-font-weight: normal">located at 2336 Spruce Hills Dr. Bettendorf\, IA 52722</B>\, will celebrate their grand opening with a ribbon cutting on <B style="mso-bidi-font-weight: normal">Wednesday\, November 20 at 1:00pm</B>.<SPAN style="mso-spacerun: yes">&nbsp\; </SPAN></FONT><A href="http://mapq.st/1dQ5CDf">http://mapq.st/1dQ5CDf</A><FONT face=Calibri>.<?xml:namespace prefix = o ns = "urn:schemas-microsoft-com:office:office" /><o:p></o:p></FONT></P><P style="MARGIN: 0in 0in 0pt" class=MsoNormal><o:p><FONT face=Calibri>&nbsp\;</FONT></o:p></P><P style="MARGIN: 0in 0in 0pt" class=MsoNormal><FONT face=Calibri>Program and Events Coordinator\, Jeanna Trenkamp will be speaking on behalf of the Quad Cities Chamber of Commerce.<SPAN style="mso-spacerun: yes">&nbsp\; </SPAN><o:p></o:p></FONT></P><P style="MARGIN: 0in 0in 0pt" class=MsoNormal><o:p><FONT face=Calibri>&nbsp\;</FONT></o:p></P><P style="MARGIN: 0in 0in 0pt" class=MsoNormal><FONT face=Calibri>QC Vapes is the place to go for all of your vaping needs.<SPAN style="mso-spacerun: yes">&nbsp\; </SPAN>They carry a number of items for customers who are in search of smoking alternatives.<SPAN style="mso-spacerun: yes">&nbsp\; </SPAN>All of QC Vapes e-liquids are made in the U.S. with ingredients from the U.S.<SPAN style="mso-spacerun: yes">&nbsp\; </SPAN>The company sells everything from beginner kits to advanced modifiable items and accessories to make using devices even better.<SPAN style="mso-spacerun: yes">&nbsp\; </SPAN><o:p></o:p></FONT></P><P style="MARGIN: 0in 0in 0pt" class=MsoNormal><o:p><FONT face=Calibri>&nbsp\;</FONT></o:p></P><P style="MARGIN: 0in 0in 0pt" class=MsoNormal><FONT face=Calibri>QC Vapes will be open seven days a week from 11:00am-8:00pm.<SPAN style="mso-spacerun: yes">&nbsp\; </SPAN>For more information\, please visit </FONT><A href="http://www.qcvapes.com">www.qcvapes.com</A><FONT face=Calibri>.<o:p></o:p></FONT></P><P>&nbsp\;</P>
LOCATION:QC Vapes\, LLC2336 Spruce Hills Dr. Bettendorf\, IA 52722
UID:e.2843.746
SEQUENCE:3
DTSTAMP:20260421T235341Z
URL:https://member.quadcitieschamber.com/events/details/qc-vapes-grand-opening-ribbon-cutting-11-20-2013-746
END:VEVENT

END:VCALENDAR
