BEGIN:VCALENDAR
VERSION:2.0
PRODID:-//ChamberMaster//Event Calendar 2.0//EN
METHOD:PUBLISH
X-PUBLISHED-TTL:P3D
REFRESH-INTERVAL:P3D
CALSCALE:GREGORIAN
BEGIN:VEVENT
DTSTART:20120507T150000Z
DTEND:20120507T153000Z
X-MICROSOFT-CDO-ALLDAYEVENT:FALSE
SUMMARY:QCCVB and Holiday Inn Rock Island Visitors Center Ribbon Cutting
DESCRIPTION:Please join us for a ribbon cutting celebrating the new Visitors Center on Monday\, May 7th at 10am\, 226 17th Street\, Suite 11\, Rock Island – directly across from Theo’s Java Café. ·         The Quad Cities Convention & Visitors Bureau (QCCVB) is the official tourism destination marketing and management organization for the Quad Cities region.·         Quad Cities Visitor Center & Gift Shop\, in The District opened April 2\, 2012·         The District Visitor Center is strategically located near the Rock Island Holiday Inn & Conference Center in the heart of The Downtown Rock Island Arts & Entertainment District.  The visitor center will operate as a full-time\, full-service\, year-round visitor center and will be open Monday through Saturday.·         It joins the QCCVB’s other Visitor Center & Gift Shop locations at RiverStation (Moline) and Union Station (Davenport)\, as well as Visitor Information Centers at Quad City Int’l Airport\, Iowa 80 Trucking Museum & Geneseo Chamber of Commerce and Visitor Center and our new Quad Cities Gifts online store www.quadcitiesgifts.com·         We welcome visitors to the Quad Cities and provide Visitor Information\, Souvenirs\, Gifts and locally made products.·         Locals are welcome to find that unique gift for their hard-to-shop-for person\, attraction\, restaurant\, event information or lodging options when friends and family come for a visit.·         Quad Cities Convention & Visitors Bureau: www.visitquadcities.com
X-ALT-DESC;FMTTYPE=text/html:<P style="MARGIN: 0in 0in 0pt" class=MsoNormal><FONT face=Calibri>Please join us for a ribbon cutting celebrating the new Visitors Center on Monday\, May 7<SUP>th</SUP> at 10am\, 226 17<SUP>th</SUP> Street\, Suite 11\, Rock Island – directly across from Theo’s Java Café.</FONT></P><P style="MARGIN: 0in 0in 0pt" class=MsoNormal><?xml:namespace prefix = o ns = "urn:schemas-microsoft-com:office:office" /><o:p><FONT face=Calibri>&nbsp\;</FONT></o:p></P><P style="TEXT-INDENT: -0.25in\; MARGIN: 0in 0in 0pt 0.5in\; mso-list: l0 level1 lfo1" class=MsoListParagraph><SPAN style="FONT-FAMILY: Symbol\; mso-fareast-font-family: Symbol\; mso-bidi-font-family: Symbol"><SPAN style="mso-list: Ignore">·<SPAN style="FONT: 7pt 'Times New Roman'">&nbsp\;&nbsp\;&nbsp\;&nbsp\;&nbsp\;&nbsp\;&nbsp\;&nbsp\; </SPAN></SPAN></SPAN><FONT face=Calibri>The Quad Cities Convention &amp\; Visitors Bureau (QCCVB) is the official tourism destination marketing and management organization for the Quad Cities region.</FONT></P><P style="TEXT-INDENT: -0.25in\; MARGIN: 0in 0in 0pt 0.5in\; mso-list: l0 level1 lfo1" class=MsoListParagraph><SPAN style="FONT-FAMILY: Symbol\; mso-fareast-font-family: Symbol\; mso-bidi-font-family: Symbol"><SPAN style="mso-list: Ignore">·<SPAN style="FONT: 7pt 'Times New Roman'">&nbsp\;&nbsp\;&nbsp\;&nbsp\;&nbsp\;&nbsp\;&nbsp\;&nbsp\; </SPAN></SPAN></SPAN><FONT face=Calibri>Quad Cities Visitor Center &amp\; Gift Shop\, in The District opened April 2\, 2012</FONT></P><P style="TEXT-INDENT: -0.25in\; MARGIN: 0in 0in 0pt 0.5in\; mso-list: l0 level1 lfo1" class=MsoListParagraph><SPAN style="FONT-FAMILY: Symbol\; mso-fareast-font-family: Symbol\; mso-bidi-font-family: Symbol"><SPAN style="mso-list: Ignore">·<SPAN style="FONT: 7pt 'Times New Roman'">&nbsp\;&nbsp\;&nbsp\;&nbsp\;&nbsp\;&nbsp\;&nbsp\;&nbsp\; </SPAN></SPAN></SPAN><FONT face=Calibri>The District Visitor Center is strategically located near the Rock Island Holiday Inn &amp\; Conference Center in the heart of The Downtown Rock Island Arts &amp\; Entertainment District.<SPAN style="mso-spacerun: yes">&nbsp\; </SPAN>The visitor center will operate as a full-time\, full-service\, year-round visitor center and will be open Monday through Saturday.</FONT></P><P style="TEXT-INDENT: -0.25in\; MARGIN: 0in 0in 0pt 0.5in\; mso-list: l0 level1 lfo1" class=MsoListParagraph><SPAN style="FONT-FAMILY: Symbol\; mso-fareast-font-family: Symbol\; mso-bidi-font-family: Symbol"><SPAN style="mso-list: Ignore">·<SPAN style="FONT: 7pt 'Times New Roman'">&nbsp\;&nbsp\;&nbsp\;&nbsp\;&nbsp\;&nbsp\;&nbsp\;&nbsp\; </SPAN></SPAN></SPAN><FONT face=Calibri>It joins the QCCVB’s other Visitor Center &amp\; Gift Shop locations at RiverStation (Moline) and Union Station (Davenport)\, as well as Visitor Information Centers at Quad City Int’l Airport\, Iowa 80 Trucking Museum &amp\; Geneseo Chamber of Commerce and Visitor Center and our new Quad Cities Gifts online store </FONT><A href="http://www.quadcitiesgifts.com">www.quadcitiesgifts.com</A></P><P style="TEXT-INDENT: -0.25in\; MARGIN: 0in 0in 0pt 0.5in\; mso-list: l0 level1 lfo1" class=MsoListParagraph><SPAN style="FONT-FAMILY: Symbol\; mso-fareast-font-family: Symbol\; mso-bidi-font-family: Symbol"><SPAN style="mso-list: Ignore">·<SPAN style="FONT: 7pt 'Times New Roman'">&nbsp\;&nbsp\;&nbsp\;&nbsp\;&nbsp\;&nbsp\;&nbsp\;&nbsp\; </SPAN></SPAN></SPAN><FONT face=Calibri>We welcome visitors to the Quad Cities and provide Visitor Information\, Souvenirs\, Gifts and locally made products.</FONT></P><P style="TEXT-INDENT: -0.25in\; MARGIN: 0in 0in 0pt 0.5in\; mso-list: l0 level1 lfo1" class=MsoListParagraph><SPAN style="FONT-FAMILY: Symbol\; mso-fareast-font-family: Symbol\; mso-bidi-font-family: Symbol"><SPAN style="mso-list: Ignore">·<SPAN style="FONT: 7pt 'Times New Roman'">&nbsp\;&nbsp\;&nbsp\;&nbsp\;&nbsp\;&nbsp\;&nbsp\;&nbsp\; </SPAN></SPAN></SPAN><FONT face=Calibri>Locals are welcome to find that unique gift for their hard-to-shop-for person\, attraction\, restaurant\, event information or lodging options when friends and family come for a visit.</FONT></P><P style="TEXT-INDENT: -0.25in\; MARGIN: 0in 0in 0pt 0.5in\; mso-list: l0 level1 lfo1" class=MsoListParagraph><SPAN style="FONT-FAMILY: Symbol\; mso-fareast-font-family: Symbol\; mso-bidi-font-family: Symbol"><SPAN style="mso-list: Ignore">·<SPAN style="FONT: 7pt 'Times New Roman'">&nbsp\;&nbsp\;&nbsp\;&nbsp\;&nbsp\;&nbsp\;&nbsp\;&nbsp\; </SPAN></SPAN></SPAN><FONT face=Calibri>Quad Cities Convention &amp\; Visitors Bureau: </FONT><A href="http://www.visitquadcities.com">www.visitquadcities.com</A></P><P>&nbsp\;</P>
LOCATION:Holiday Inn Rock Island226 17th Street Ste 1 Rock Island\, IL 61201
UID:e.2843.371
SEQUENCE:3
DTSTAMP:20260422T013646Z
URL:https://member.quadcitieschamber.com/events/details/qccvb-and-holiday-inn-rock-island-visitors-center-ribbon-cutting-05-07-2012-371
END:VEVENT

END:VCALENDAR
