BEGIN:VCALENDAR
VERSION:2.0
PRODID:-//ChamberMaster//Event Calendar 2.0//EN
METHOD:PUBLISH
X-PUBLISHED-TTL:P3D
REFRESH-INTERVAL:P3D
CALSCALE:GREGORIAN
BEGIN:VEVENT
DTSTART:20120509T173000Z
DTEND:20120509T180000Z
X-MICROSOFT-CDO-ALLDAYEVENT:FALSE
SUMMARY:QCCVB and Iowa 80 Trucking Museum Ribbon Cutting
DESCRIPTION:Please join us for a ribbon cutting celebrating the Visitors Center at Iowa 80 Trucking Museum on Wednesday\, May 9th at 12:30pm.   ·          The Quad Cities Convention & Visitors Bureau (QCCVB) is the official tourism destination marketing and management organization for the Quad Cities region.·         Visitor Center at Iowa 80 Trucking Museum opened April 1\, 2012·         The Iowa 80 Visitor Center opened in partnership with the Iowa 80 Trucking Museum\, located at Exit 284 on I-80 in Walcott\, Iowa.  This Visitor Center will be located inside the museum and follow the same hours of operation as the museum.·         The center will be open year around and visitor counselors will be on-hand to answer questions and provide Quad Cities’ visitor information.·         It joins the QCCVB’s other Visitor Information Centers at Quad City International Airport and Geneseo Chamber of Commerce Visitor Center.·         We welcome visitors to the Quad Cities and provide visitor information and assistance for those traveling along Interstate 80 in Iowa.·         Quad Cities Convention & Visitors Bureau:  www.visitquadcities.com
X-ALT-DESC;FMTTYPE=text/html:<DIV><P style="MARGIN: 0in 0in 0pt" class=MsoNormal><FONT face=Calibri>Please join us for a ribbon cutting celebrating the Visitors Center at Iowa 80 Trucking Museum on Wednesday\, May 9<SUP>th</SUP> at 12:30pm.<SPAN style="mso-spacerun: yes">&nbsp\; </SPAN></FONT></P><P style="MARGIN: 0in 0in 0pt" class=MsoNormal><?xml:namespace prefix = o ns = "urn:schemas-microsoft-com:office:office" /><o:p><FONT face=Calibri>&nbsp\;</FONT></o:p></P><P style="TEXT-INDENT: -0.25in\; MARGIN: 0in 0in 0pt 0.5in\; mso-list: l0 level1 lfo1" class=MsoListParagraph><SPAN style="FONT-FAMILY: Symbol\; mso-fareast-font-family: Symbol\; mso-bidi-font-family: Symbol"><SPAN style="mso-list: Ignore">·<SPAN style="FONT: 7pt 'Times New Roman'">&nbsp\;&nbsp\;&nbsp\;&nbsp\;&nbsp\;&nbsp\;&nbsp\;&nbsp\; </SPAN></SPAN></SPAN><FONT face=Calibri><SPAN style="mso-spacerun: yes">&nbsp\;</SPAN>The Quad Cities Convention &amp\; Visitors Bureau (QCCVB) is the official tourism destination marketing and management organization for the Quad Cities region.</FONT></P><P style="TEXT-INDENT: -0.25in\; MARGIN: 0in 0in 0pt 0.5in\; mso-list: l0 level1 lfo1" class=MsoListParagraph><SPAN style="FONT-FAMILY: Symbol\; mso-fareast-font-family: Symbol\; mso-bidi-font-family: Symbol"><SPAN style="mso-list: Ignore">·<SPAN style="FONT: 7pt 'Times New Roman'">&nbsp\;&nbsp\;&nbsp\;&nbsp\;&nbsp\;&nbsp\;&nbsp\;&nbsp\; </SPAN></SPAN></SPAN><FONT face=Calibri>Visitor Center at Iowa 80 Trucking Museum opened April 1\, 2012</FONT></P><P style="TEXT-INDENT: -0.25in\; MARGIN: 0in 0in 0pt 0.5in\; mso-list: l0 level1 lfo1" class=MsoListParagraph><SPAN style="FONT-FAMILY: Symbol\; mso-fareast-font-family: Symbol\; mso-bidi-font-family: Symbol"><SPAN style="mso-list: Ignore">·<SPAN style="FONT: 7pt 'Times New Roman'">&nbsp\;&nbsp\;&nbsp\;&nbsp\;&nbsp\;&nbsp\;&nbsp\;&nbsp\; </SPAN></SPAN></SPAN><FONT face=Calibri>The Iowa 80 Visitor Center opened in partnership with the Iowa 80 Trucking Museum\, located at Exit 284 on I-80 in Walcott\, Iowa.<SPAN style="mso-spacerun: yes">&nbsp\; </SPAN>This Visitor Center will be located inside the museum and follow the same hours of operation as the museum.</FONT></P><P style="TEXT-INDENT: -0.25in\; MARGIN: 0in 0in 0pt 0.5in\; mso-list: l0 level1 lfo1" class=MsoListParagraph><SPAN style="FONT-FAMILY: Symbol\; mso-fareast-font-family: Symbol\; mso-bidi-font-family: Symbol"><SPAN style="mso-list: Ignore">·<SPAN style="FONT: 7pt 'Times New Roman'">&nbsp\;&nbsp\;&nbsp\;&nbsp\;&nbsp\;&nbsp\;&nbsp\;&nbsp\; </SPAN></SPAN></SPAN><FONT face=Calibri>The center will be open year around and visitor counselors will be on-hand to answer questions and provide Quad Cities’ visitor information.</FONT></P><P style="TEXT-INDENT: -0.25in\; MARGIN: 0in 0in 0pt 0.5in\; mso-list: l0 level1 lfo1" class=MsoListParagraph><SPAN style="FONT-FAMILY: Symbol\; mso-fareast-font-family: Symbol\; mso-bidi-font-family: Symbol"><SPAN style="mso-list: Ignore">·<SPAN style="FONT: 7pt 'Times New Roman'">&nbsp\;&nbsp\;&nbsp\;&nbsp\;&nbsp\;&nbsp\;&nbsp\;&nbsp\; </SPAN></SPAN></SPAN><FONT face=Calibri>It joins the QCCVB’s other Visitor Information Centers at Quad City International Airport and Geneseo Chamber of Commerce Visitor Center.</FONT></P><P style="TEXT-INDENT: -0.25in\; MARGIN: 0in 0in 0pt 0.5in\; mso-list: l0 level1 lfo1" class=MsoListParagraph><SPAN style="FONT-FAMILY: Symbol\; mso-fareast-font-family: Symbol\; mso-bidi-font-family: Symbol"><SPAN style="mso-list: Ignore">·<SPAN style="FONT: 7pt 'Times New Roman'">&nbsp\;&nbsp\;&nbsp\;&nbsp\;&nbsp\;&nbsp\;&nbsp\;&nbsp\; </SPAN></SPAN></SPAN><FONT face=Calibri>We welcome visitors to the Quad Cities and provide visitor information and assistance for those traveling along Interstate 80 in Iowa.</FONT></P><P style="TEXT-INDENT: -0.25in\; MARGIN: 0in 0in 0pt 0.5in\; mso-list: l0 level1 lfo1" class=MsoListParagraph><SPAN style="FONT-FAMILY: Symbol\; mso-fareast-font-family: Symbol\; mso-bidi-font-family: Symbol"><SPAN style="mso-list: Ignore">·<SPAN style="FONT: 7pt 'Times New Roman'">&nbsp\;&nbsp\;&nbsp\;&nbsp\;&nbsp\;&nbsp\;&nbsp\;&nbsp\; </SPAN></SPAN></SPAN><FONT face=Calibri>Quad Cities Convention &amp\; Visitors Bureau:<SPAN style="mso-spacerun: yes">&nbsp\; </SPAN></FONT><A href="http://www.visitquadcities.com"><FONT face="Times New Roman">www.visitquadcities.com</FONT></A></P></DIV>
LOCATION:I-80 at Exit 284
UID:e.2843.372
SEQUENCE:3
DTSTAMP:20260422T013628Z
URL:https://member.quadcitieschamber.com/events/details/qccvb-and-iowa-80-trucking-museum-ribbon-cutting-05-09-2012-372
END:VEVENT

END:VCALENDAR
