BEGIN:VCALENDAR
VERSION:2.0
PRODID:-//ChamberMaster//Event Calendar 2.0//EN
METHOD:PUBLISH
X-PUBLISHED-TTL:P3D
REFRESH-INTERVAL:P3D
CALSCALE:GREGORIAN
BEGIN:VEVENT
DTSTART:20121017T160000Z
DTEND:20121017T163000Z
X-MICROSOFT-CDO-ALLDAYEVENT:FALSE
SUMMARY:QCIA Electric Vehicle charging unit Ribbon Cutting
DESCRIPTION:The Quad City International Airport unveiled two new Level II Electric Vehicle (EV) charging units in the short-term parking lot.  Each dual charging unit has the capacity to charge two vehicles in 4-6 hours.  The installation is part of a broader effort to expand the charging infrastructure to support anticipated growth in the electric and plug-in hybrid vehicle use over the next five to ten years.
X-ALT-DESC;FMTTYPE=text/html:<P style="MARGIN: 0in 0in 0pt" class=MsoNormal><FONT face=Calibri>The Quad City International Airport unveiled two new Level II Electric Vehicle (EV) charging units in the short-term parking lot.<SPAN style="mso-spacerun: yes">&nbsp\; </SPAN>Each dual charging unit has the capacity to charge two vehicles in 4-6 hours.<SPAN style="mso-spacerun: yes">&nbsp\; </SPAN>The installation is part of a broader effort to expand the charging infrastructure to support anticipated growth in the electric and plug-in hybrid vehicle use over the next five to ten years.</FONT></P><DIV style="FONT-FAMILY: Arial">&nbsp\;</DIV>
LOCATION:Quad City International Airport\, short-term lot at the charg
UID:e.2843.461
SEQUENCE:3
DTSTAMP:20260421T170451Z
URL:https://member.quadcitieschamber.com/events/details/qcia-electric-vehicle-charging-unit-ribbon-cutting-10-17-2012-461
END:VEVENT

END:VCALENDAR
