BEGIN:VCALENDAR
VERSION:2.0
PRODID:-//ChamberMaster//Event Calendar 2.0//EN
METHOD:PUBLISH
X-PUBLISHED-TTL:P3D
REFRESH-INTERVAL:P3D
CALSCALE:GREGORIAN
BEGIN:VEVENT
DTSTART:20140121T163000Z
DTEND:20140121T170000Z
X-MICROSOFT-CDO-ALLDAYEVENT:FALSE
SUMMARY:QPS Grand Opening Ribbon Cutting
DESCRIPTION:Please join QPS Employment Group\, Located at 2206 E. 52nd Street\, Unit B Davenport\, IA 52807\, to celebrate the grand opening of their new location on January 21st at 10:30am.  QPS Employment Group is a full-service employment firm.  They specialize in industrial\, skilled trades\, office/clerical and professional settings with temporary\, temp-to-hire and direct hire options.   In 1985\, QPS started as a two-person employment agency.  Over time\, the company has expanded to become one of the largest staffing firms in the Midwest.  Today\, they have an internal staff of over 250 employees\, 30 full-service offices\, 50 recruiting centers throughout the Midwest and over 1\,500 client companies in the Midwest.   For more information\, please visit www.qpsemployment.com. Jeanna Trenkamp\, Program and Events Coordinator\, will be speaking on behalf of the Quad Cities Chamber of Commerce.
X-ALT-DESC;FMTTYPE=text/html:<P style="MARGIN: 0in 0in 0pt" class=MsoNormal><P style="MARGIN: 0in 0in 0pt" class=MsoNormal><FONT face=Calibri>Please join QPS Employment Group\, Located at <B style="mso-bidi-font-weight: normal">2206 E. 52<SUP>nd</SUP> Street\, Unit B Davenport\, IA 52807</B>\, to celebrate the grand opening of their new location on <B style="mso-bidi-font-weight: normal">January 21<SUP>st</SUP> at 10:30am</B>. <?xml:namespace prefix = o ns = "urn:schemas-microsoft-com:office:office" /><o:p></o:p></FONT></P><P style="MARGIN: 0in 0in 0pt" class=MsoNormal><o:p><FONT face=Calibri>&nbsp\;</FONT></o:p></P><P style="MARGIN: 0in 0in 0pt" class=MsoNormal><FONT face=Calibri>QPS Employment Group is a full-service employment firm.<SPAN style="mso-spacerun: yes">&nbsp\; </SPAN>They specialize in industrial\, skilled trades\, office/clerical and professional settings with temporary\, temp-to-hire and direct hire options.<SPAN style="mso-spacerun: yes">&nbsp\; </SPAN><o:p></o:p></FONT></P><P style="MARGIN: 0in 0in 0pt" class=MsoNormal><o:p><FONT face=Calibri>&nbsp\;</FONT></o:p></P><P style="MARGIN: 0in 0in 0pt" class=MsoNormal><FONT face=Calibri>In 1985\, QPS started as a two-person employment agency.<SPAN style="mso-spacerun: yes">&nbsp\; </SPAN>Over time\, the company has expanded to become one of the largest staffing firms in the Midwest.<SPAN style="mso-spacerun: yes">&nbsp\; </SPAN>Today\, they have an internal staff of over 250 employees\, 30 full-service offices\, 50 recruiting centers throughout the Midwest and over 1\,500 client companies in the Midwest.<SPAN style="mso-spacerun: yes">&nbsp\; </SPAN><o:p></o:p></FONT></P><P style="MARGIN: 0in 0in 0pt" class=MsoNormal><o:p><FONT face=Calibri>&nbsp\;</FONT></o:p></P><P style="MARGIN: 0in 0in 0pt" class=MsoNormal><FONT face=Calibri>For more information\, please visit </FONT><A href="http://www.qpsemployment.com">www.qpsemployment.com</A><FONT face=Calibri>.<o:p></o:p></FONT></P><P style="MARGIN: 0in 0in 0pt" class=MsoNormal><o:p><FONT face=Calibri>&nbsp\;</FONT></o:p></P><P style="MARGIN: 0in 0in 0pt" class=MsoNormal><FONT face=Calibri>Jeanna Trenkamp\, Program and Events Coordinator\, will be speaking on behalf of the Quad Cities Chamber of Commerce.<SPAN style="mso-spacerun: yes">&nbsp\; </SPAN></FONT><o:p></o:p></P><P>&nbsp\;</P>
LOCATION:QPS Employment Group2206 E. 52nd St.\, Unit B Davenport\, IA 52807
UID:e.2843.768
SEQUENCE:3
DTSTAMP:20260422T013301Z
URL:https://member.quadcitieschamber.com/events/details/qps-grand-opening-ribbon-cutting-01-21-2014-768
END:VEVENT

END:VCALENDAR
