BEGIN:VCALENDAR
VERSION:2.0
PRODID:-//ChamberMaster//Event Calendar 2.0//EN
METHOD:PUBLISH
X-PUBLISHED-TTL:P3D
REFRESH-INTERVAL:P3D
CALSCALE:GREGORIAN
BEGIN:VEVENT
DTSTART:20190613T223000Z
DTEND:20190614T010000Z
X-MICROSOFT-CDO-ALLDAYEVENT:FALSE
SUMMARY:Quad Cities Area Business Hall of Fame
DESCRIPTION:The Quad Cities Business Hall of Fame recognizes individuals who demonstrate an entrepreneurial vision\, serve as role models\, and positively contribute to the overall growth and development of the Quad Cities Area.
X-ALT-DESC;FMTTYPE=text/html:The Quad Cities Business Hall of Fame recognizes individuals who demonstrate an entrepreneurial vision\, serve as role models\, and positively contribute to the overall growth and development of the Quad Cities Area.
LOCATION:Jumer's Casino & Hotel\, Rock Island
UID:e.2843.13818
SEQUENCE:3
DTSTAMP:20260422T132047Z
URL:https://member.quadcitieschamber.com/events/details/quad-cities-area-business-hall-of-fame-06-13-2019-13818
END:VEVENT

END:VCALENDAR
