BEGIN:VCALENDAR
VERSION:2.0
PRODID:-//ChamberMaster//Event Calendar 2.0//EN
METHOD:PUBLISH
X-PUBLISHED-TTL:P3D
REFRESH-INTERVAL:P3D
CALSCALE:GREGORIAN
BEGIN:VEVENT
DTSTART:20170615T223000Z
DTEND:20170616T010000Z
X-MICROSOFT-CDO-ALLDAYEVENT:FALSE
SUMMARY:Quad Cities Area Business Hall of Fame
DESCRIPTION:Junior Achievement of the Heartland is honoring area business leaders for their contributions to the local community. Please join us for cocktail hour\, dinner\, and the induction ceremony.
X-ALT-DESC;FMTTYPE=text/html:Junior Achievement of the Heartland is honoring area business leaders for their contributions to the local community. Please join us for cocktail hour\, dinner\, and the induction ceremony.
LOCATION:Jumer's Casino & Hotel Rock Island\, IL
UID:e.2843.5828
SEQUENCE:3
DTSTAMP:20260424T032117Z
URL:https://member.quadcitieschamber.com/events/details/quad-cities-area-business-hall-of-fame-5828
END:VEVENT

END:VCALENDAR
