BEGIN:VCALENDAR
VERSION:2.0
PRODID:-//ChamberMaster//Event Calendar 2.0//EN
METHOD:PUBLISH
X-PUBLISHED-TTL:P3D
REFRESH-INTERVAL:P3D
CALSCALE:GREGORIAN
BEGIN:VEVENT
DTSTART:20180417T123000Z
DTEND:20180417T133000Z
X-MICROSOFT-CDO-ALLDAYEVENT:FALSE
SUMMARY:Quad Cities Big Table informational meeting
DESCRIPTION:Want to build a stronger community? Let's talk!\n\nThe public is invited to a short\, informational meeting to learn more about participating in the Quad Cities Big Table. No reservations are needed. Walk-ins welcome!!!!! \n\nLet's talk about what matters to you and make our region stronger and more connected together.\n\nReserve your seat or become a host: http://quadcitiesbigtable.com
X-ALT-DESC;FMTTYPE=text/html:<p style="box-sizing: border-box\; margin: 0px\; padding: 0px 0px 10px\; border: 0px\; outline: 0px\; background: 0px 0px rgb(255\, 255\, 255)\; font-size: 42px\; vertical-align: baseline\; text-size-adjust: 100%\; color: rgb(204\, 0\, 0)\; line-height: 1em\; font-family: Roboto\, Helvetica\, Arial\, Lucida\, sans-serif\;"><big><span style="font-size:16px\;"><span style="font-family:arial\;"><span style="color:#000000\;">Want to build a stronger community? Let&rsquo\;s talk!<br />\nThe public is invited to a short\, informational meeting to learn more about participating in the Quad Cities Big Table.&nbsp\;No reservations are needed. Walk-ins welcome!!!!!&nbsp\;<br />\nLet&rsquo\;s talk about what matters to you and make our region stronger and more connected together.<br />\nReserve your seat&nbsp\;or&nbsp\;become a host:&nbsp\;</span><strong><u><a href="http://quadcitiesbigtable.com/"><span style="color:#0000CD\;">http://quadcitiesbigtable.com</span></a></u></strong></span></span></big><br />\n&nbsp\;</p>\n\n<p style="box-sizing: border-box\; margin: 0px\; padding: 0px 0px 10px\; border: 0px\; outline: 0px\; background: 0px 0px rgb(255\, 255\, 255)\; font-size: 42px\; vertical-align: baseline\; text-size-adjust: 100%\; color: rgb(204\, 0\, 0)\; line-height: 1em\; font-family: Roboto\, Helvetica\, Arial\, Lucida\, sans-serif\;">&nbsp\;</p>\n
LOCATION:Birchwood Fields 4620 E 53rd St\, Davenport\, IA 52807
UID:e.2843.12146
SEQUENCE:3
DTSTAMP:20260423T122859Z
URL:https://member.quadcitieschamber.com/events/details/quad-cities-big-table-informational-meeting-12146
END:VEVENT

END:VCALENDAR
