BEGIN:VCALENDAR
VERSION:2.0
PRODID:-//ChamberMaster//Event Calendar 2.0//EN
METHOD:PUBLISH
X-PUBLISHED-TTL:P3D
REFRESH-INTERVAL:P3D
CALSCALE:GREGORIAN
BEGIN:VEVENT
DTSTART;VALUE=DATE:20180420
DTEND;VALUE=DATE:20180422
TRANSP:TRANSPARENT
X-MICROSOFT-CDO-ALLDAYEVENT:TRUE
SUMMARY:Quad Cities Big Table-Let's Talk.
DESCRIPTION:About Quad Cities Big Table\n\nWe know that big ideas can spring from a small conversation.  It's a proven reality that people invest in what they create. The Quad Cities Big Table is a forum to elevate civic conversation\, foster new relationships and inspire collaborative action across the region.\n\nOn Friday\, April 20th and Saturday\, April 21\, 2018\, more than 5\,000 people representing different backgrounds\, neighborhoods and interest groups will participate in more than 500 (one-hour) conversations to discuss and imagine the future of our region. These conversations will inspire new ways we can work together to make our communities and region stronger and more connected.\n\nThis act of people coming together to discuss the issues that matter most to them has never been more important.  Progress will only result when residents and organizations collaborate to make contributions that add up to a greater solution.  Quad Cities Big Table will connect individuals and communities of diverse perspectives and backgrounds to do just that.\n\n\n\nReserve your seat or become a host: http://quadcitiesbigtable.com/
X-ALT-DESC;FMTTYPE=text/html:<h1 style="box-sizing: border-box\; margin: 0px\; padding: 0px 0px 10px\; border: 0px\; outline: 0px\; background: 0px 0px rgb(255\, 255\, 255)\; font-size: 42px\; vertical-align: baseline\; text-size-adjust: 100%\; color: rgb(204\, 0\, 0)\; line-height: 1em\; font-family: Roboto\, Helvetica\, Arial\, Lucida\, sans-serif\;"><span style="font-size:26px\;">About Quad Cities Big Table</span></h1>\n\n<p style="box-sizing: border-box\; margin: 0px\; padding: 0px 0px 1em\; border: 0px\; outline: 0px\; background: 0px 0px rgb(255\, 255\, 255)\; font-size: 16px\; vertical-align: baseline\; text-size-adjust: 100%\; color: rgb(102\, 102\, 102)\; font-family: Roboto\, Helvetica\, Arial\, Lucida\, sans-serif\;">We know that big ideas can spring from a small conversation.&nbsp\; It&rsquo\;s a proven reality that people invest in what they create. The Quad Cities Big Table is a forum to elevate civic conversation\, foster new relationships and inspire collaborative action across the region.</p>\n\n<p style="box-sizing: border-box\; margin: 0px\; padding: 0px 0px 1em\; border: 0px\; outline: 0px\; background: 0px 0px rgb(255\, 255\, 255)\; font-size: 16px\; vertical-align: baseline\; text-size-adjust: 100%\; color: rgb(102\, 102\, 102)\; font-family: Roboto\, Helvetica\, Arial\, Lucida\, sans-serif\;">On Friday\, April 20th and Saturday\, April 21\, 2018\, more than 5\,000 people representing different backgrounds\, neighborhoods and interest groups will participate in more than 500 (one-hour) conversations to discuss and imagine the future of our region. These conversations will inspire new ways we can work together to make our communities and region stronger and more connected.</p>\n\n<p style="box-sizing: border-box\; margin: 0px\; padding: 0px\; border: 0px\; outline: 0px\; background: 0px 0px rgb(255\, 255\, 255)\; font-size: 16px\; vertical-align: baseline\; text-size-adjust: 100%\; color: rgb(102\, 102\, 102)\; font-family: Roboto\, Helvetica\, Arial\, Lucida\, sans-serif\;">This act of people coming together to discuss the issues that matter most to them has never been more important.&nbsp\; Progress will only result when residents and organizations collaborate to make contributions that add up to a greater solution.&nbsp\; Quad Cities Big Table will connect individuals and communities of diverse perspectives and backgrounds to do just that.<br />\n<br />\nReserve your seat&nbsp\;or&nbsp\;become a host:&nbsp\;<u><strong><a href="http://quadcitiesbigtable.com/"><span style="color:#0000FF\;">http://quadcitiesbigtable.com/</span></a></strong></u></p>\n
LOCATION:In offices\, homes\, libraries and other locations
UID:e.2843.11092
SEQUENCE:3
DTSTAMP:20260423T122726Z
URL:https://member.quadcitieschamber.com/events/details/quad-cities-big-table-let-s-talk-11092
END:VEVENT

END:VCALENDAR
