BEGIN:VCALENDAR
VERSION:2.0
PRODID:-//ChamberMaster//Event Calendar 2.0//EN
METHOD:PUBLISH
X-PUBLISHED-TTL:P3D
REFRESH-INTERVAL:P3D
CALSCALE:GREGORIAN
BEGIN:VEVENT
DTSTART:20210623T213000Z
DTEND:20210623T233000Z
X-MICROSOFT-CDO-ALLDAYEVENT:FALSE
SUMMARY:Quad Cities Chamber | After Hours at The Forge
DESCRIPTION:Quad Cities Chamber | After Hours at The Forge\n\nThe Forge Putting Course is located at Palmer Hills Golf Course\, Bettendorf\, IA\n\nWednesday\, June 23 | 4:30 - 6:30 p.m.\n\n\n\nJoin us for the Chamber's first in-person After Hours of 2021. Meetup with clients\, colleagues and co-workers to reconnect. We'll provide the food\, beverages\, games\, music\, prizes and more. Let us help boost your business connections at this fun\, casual after-work event.\n\n\n\nWhat to expect:\n\nThis After Hours will be held at The Forge putting course at Palmer Hills. No golf experience is needed for this event\; however\, your putt could just score you some cool prizes.\n\n \nEnjoy sips and samples from local favorites that you've been missing!\n\nAzteca 1\, Barrel House\, Country Style Ice Cream\, Five Cities Brewery\, Front Street Brewery\, McAlister's Deli\, Meatball Sandwich Co.\, Sweet Tooth Snacks\, Zeke's Island Cafe and more!\n\n \n\nMusic and entertainment provided by Prestige Productions.\n\n\n\nPrizes and giveaways provided by Chamber members including a chance to win a $200 Flight Voucher from the Quad Cities International Airport!\n\n\n\n Don't miss the return of the Quad Cities Chamber's After Hours!\n\n\n\nWant to get your company more involved with this event?\n\nContact Marcy Hyder at myder@quadcitieschamber.com or 563.823.2690 for sponsorship opportunities.\n\n \n\n  \n\nInternQC Participants: This is an InternQC meetup event. Access to The Forge\, along with food and entertainment will be included in your registration. This is your chance to meet up with our local professionals. InternQC sponsors include St. Ambrose University\, MRA\, and GreenState Credit Union.\n\n\n\nWe strive to host inclusive and accessible events that enable all individuals to engage fully. For event assistance or any additional information please contact:\n\n\n\nGerry Ann Hayes\n\nPhone: 563.823.2659\n\nEmail: ghayes@quadcitieschamber.com\n\n\n\n\n\n Cancellation Policy:\n\nCancellations must be received at least 72 hours in advance in order to receive a registration refund. You may transfer your registration to another person within your company at no additional cost.
X-ALT-DESC;FMTTYPE=text/html:<p><strong><span style="background-image:initial\;background-position:initial\;background-size:initial\;background-repeat:initial\;background-attachment:initial\;background-origin:initial\;background-clip:initial\;"><span style="font-family:arial\,sans-serif\;"><span style="font-size:14pt\;">Quad Cities Chamber | After Hours at The Forge</span></span></span></strong><br style="box-sizing:border-box\;" />\n<strong><span style="background-image: initial\; background-position: initial\; background-size: initial\; background-repeat: initial\; background-attachment: initial\; background-origin: initial\; background-clip: initial\;"><span style="font-family: arial\, sans-serif\;"><span style="font-size: 12pt\;">The Forge Putting Course is&nbsp\;located at Palmer Hills Golf Course\, Bettendorf\, IA</span></span></span></strong><br />\n<strong style="box-sizing:border-box\;"><span style="background-image:initial\;background-position:initial\;background-size:initial\;background-repeat:initial\;background-attachment:initial\;background-origin:initial\;background-clip:initial\;"><span style="font-family:arial\,sans-serif\;"><span style="font-size:12pt\;">Wednesday\, June 23 | 4:30 - 6:30 p.m.</span></span></span></strong><br />\n<br />\n<span style="background-image:initial\;background-position:initial\;background-size:initial\;background-repeat:initial\;background-attachment:initial\;background-origin:initial\;background-clip:initial\;"><span style="font-family:arial\,sans-serif\;"><span style="font-size:12pt\;">Join us for the Chamber&rsquo\;s first in-person After Hours of 2021. Meetup with clients\, colleagues and co-workers to&nbsp\;reconnect. We&#39\;ll provide&nbsp\;the food\, beverages\, games\, music\, prizes and more. Let us&nbsp\;help boost your business connections at&nbsp\;this fun\, casual after-work event.<br />\n<br />\n<strong>What to expect:</strong></span></span></span></p>\n\n<div style="margin-top:0in\;margin-right:0in\;margin-bottom:0in\;"><span style="background:white\;"><span style="color:#666666\;"><span style="font-family:helvetica\,sans-serif\;"><span style="font-size:12.0pt\;">This After Hours will be held at The Forge putting course&nbsp\;at Palmer Hills. No golf experience is needed for this event\; however\, your putt could just score you some cool prizes.</span></span></span></span><br />\n&nbsp\;</div>\n<span style="background:white\;"><span style="color:#666666\;"><span style="font-family:helvetica\,sans-serif\;"><span style="font-size:12.0pt\;">Enjoy sips and samples from local favorites that you&#39\;ve&nbsp\;been missing!</span></span></span></span>\n\n<div><span style="font-size:16px\;"><span style="font-family:arial\;">Azteca 1\, Barrel House\, Country Style Ice Cream\, Five Cities Brewery\, Front Street Brewery\,&nbsp\;McAlister&#39\;s Deli\, Meatball Sandwich Co.\, Sweet Tooth Snacks\, Zeke&#39\;s Island Cafe and more!</span></span><br />\n&nbsp\;</div>\n\n<div style="margin-top:0in\;margin-right:0in\;margin-bottom:0in\;"><span style="background:white\;"><span style="color:#666666\;"><span style="font-family:helvetica\,sans-serif\;"><span style="font-size:12.0pt\;">Music and entertainment provided by<strong> Prestige Productions.</strong></span></span></span></span></div>\n\n<div style="margin-top:0in\;margin-right:0in\;margin-bottom:0in\;"><br />\n<span style="background:white\;"><span style="color:#666666\;"><span style="font-family:helvetica\,sans-serif\;"><span style="font-size:12.0pt\;">Prizes and giveaways provided by Chamber members including a chance to win a <strong>$200 Flight Voucher from the Quad Cities International Airport!</strong></span></span></span></span></div>\n\n<div style="margin-top: 0in\; margin-right: 0in\; margin-bottom: 0in\;"><br />\n<span style="background-image:initial\;background-position:initial\;background-size:initial\;background-repeat:initial\;background-attachment:initial\;background-origin:initial\;background-clip:initial\;"><span style="color:#666666\;"><span style="font-family:helvetica\,sans-serif\;"><span style="font-size:12pt\;">&#8203\;</span></span></span></span><span style="background-image:initial\;background-position:initial\;background-size:initial\;background-repeat:initial\;background-attachment:initial\;background-origin:initial\;background-clip:initial\;"><span style="color:#666666\;"><span style="font-family:helvetica\,sans-serif\;"><span style="font-size:12pt\;">Don&rsquo\;t miss the return of the Quad Cities Chamber&rsquo\;s After Hours!<br />\n<br />\n<strong>Want to get your company more involved with this event?</strong><br />\nContact Marcy Hyder at <a href="mailto:myder@quadcitieschamber.com">myder@quadcitieschamber.com</a> or 563.823.2690 for <strong>sponsorship opportunities.</strong></span></span></span></span><br />\n&nbsp\;<br />\n&nbsp\;&nbsp\;<br style="box-sizing:border-box\;" />\n<strong><span style="background-image:initial\;background-position:initial\;background-size:initial\;background-repeat:initial\;background-attachment:initial\;background-origin:initial\;background-clip:initial\;"><span style="color:#666666\;"><span style="font-family:helvetica\,sans-serif\;"><span style="font-size:12pt\;"><span style="box-sizing:border-box\;">InternQC Participants:</span></span></span></span></span></strong><span style="background-image:initial\;background-position:initial\;background-size:initial\;background-repeat:initial\;background-attachment:initial\;background-origin:initial\;background-clip:initial\;"><span style="color:#666666\;"><span style="font-family:helvetica\,sans-serif\;"><span style="font-size:12pt\;"><strong> </strong>This is an InternQC meetup event. Access to The Forge\, along with food and entertainment will be included in your registration. This is your chance to meet up with our local professionals. InternQC sponsors include St. Ambrose University\, MRA\, and GreenState Credit Union.</span></span></span></span><br style="box-sizing:border-box\;" />\n<br style="box-sizing:border-box\;" />\n<span style="background-image:initial\;background-position:initial\;background-size:initial\;background-repeat:initial\;background-attachment:initial\;background-origin:initial\;background-clip:initial\;"><span style="font-family:arial\,sans-serif\;"><span style="font-size:12pt\;"><span style="box-sizing:border-box\;"><span style="box-sizing:border-box\;"><span style="box-sizing:border-box\;">We strive to host inclusive and accessible events that enable all individuals to engage fully. For event assistance or any additional information please contact:</span><br style="box-sizing:border-box\;" />\n<br style="box-sizing:border-box\;" />\n<strong style="box-sizing:border-box\;"><span style="box-sizing:border-box\;"><span style="background-image:initial\;background-position:initial\;background-size:initial\;background-repeat:initial\;background-attachment:initial\;background-origin:initial\;background-clip:initial\;">Gerry Ann Hayes</span></span></strong><br style="box-sizing:border-box\;" />\n<span style="background-image:initial\;background-position:initial\;background-size:initial\;background-repeat:initial\;background-attachment:initial\;background-origin:initial\;background-clip:initial\;">Phone: 563.823.2659<br style="box-sizing:border-box\;" />\nEmail:&nbsp\;<a href="mailto:mhyder@quadcitieschamber.com" style="box-sizing:border-box\;overflow-wrap:break-word\;"><span style="box-sizing:border-box\;">ghayes@quadcitieschamber.co</span>m</a></span></span></span></span></span></span><br style="box-sizing:border-box\;" />\n<br />\n<br />\n<u style="box-sizing:border-box\;"><span style="box-sizing:border-box\;"><span style="box-sizing:border-box\;"><span style="background-image:initial\;background-position:initial\;background-size:initial\;background-repeat:initial\;background-attachment:initial\;background-origin:initial\;background-clip:initial\;"><span style="font-family:arial\,sans-serif\;"><span style="font-size:10.5pt\;">&#8203\;Cancellation&nbsp\;Policy:</span></span></span></span></span></u><br style="box-sizing:border-box\;" />\n<span style="background-image:initial\;background-position:initial\;background-size:initial\;background-repeat:initial\;background-attachment:initial\;background-origin:initial\;background-clip:initial\;"><span style="font-family:arial\,sans-serif\;"><span style="font-size:10.5pt\;"><span style="box-sizing:border-box\;">Cancellations&nbsp\;must be received at least 72 hours in advance in order to receive a registration refund. You may transfer your registration to another person within your company at no additional cost.</span></span></span></span></div>\n
LOCATION:The Forge at Palmer Hills Golf Club 2999 Middle Road | Bettendorf\, IA
UID:e.2843.19016
SEQUENCE:3
DTSTAMP:20260425T170816Z
URL:https://member.quadcitieschamber.com/events/details/quad-cities-chamber-after-hours-at-the-forge-19016
END:VEVENT

END:VCALENDAR
