BEGIN:VCALENDAR
VERSION:2.0
PRODID:-//ChamberMaster//Event Calendar 2.0//EN
METHOD:PUBLISH
X-PUBLISHED-TTL:P3D
REFRESH-INTERVAL:P3D
CALSCALE:GREGORIAN
BEGIN:VEVENT
DTSTART:20141014T050000Z
DTEND:20141014T050000Z
X-MICROSOFT-CDO-ALLDAYEVENT:FALSE
SUMMARY:Quad Cities Chamber/ AUSA Reception
DESCRIPTION:
X-ALT-DESC;FMTTYPE=text/html:
LOCATION:Charlie Palmer Steak101 Constitution Avenue Northwest Washington D.C.\,
UID:e.2843.889
SEQUENCE:3
DTSTAMP:20260422T192810Z
URL:https://member.quadcitieschamber.com/events/details/quad-cities-chamber-ausa-reception-10-14-2014-889
END:VEVENT

END:VCALENDAR
