BEGIN:VCALENDAR
VERSION:2.0
PRODID:-//ChamberMaster//Event Calendar 2.0//EN
METHOD:PUBLISH
X-PUBLISHED-TTL:P3D
REFRESH-INTERVAL:P3D
CALSCALE:GREGORIAN
BEGIN:VEVENT
DTSTART:20110616T230000Z
DTEND:20110617T010000Z
X-MICROSOFT-CDO-ALLDAYEVENT:FALSE
SUMMARY:Quad Cities Chamber Navy Dinner
DESCRIPTION:In celebration of Navy Week\, you are invited to attend the Quad Cities Chamber Dinner featuring Rear Admiral Thomas Cropper. Join us Tuesday\, June 16 at The Figge Art Museum\, downtown Davenport\, for a cocktail reception and dinner.
X-ALT-DESC;FMTTYPE=text/html:<DIV style="FONT-FAMILY: Arial"><P style="MARGIN: 0in 0in 0pt"><SPAN style="FONT-FAMILY: 'Verdana'\,'sans-serif'\; COLOR: #333333\; FONT-SIZE: 10pt">In celebration of Navy Week\, you are invited to attend the Quad Cities Chamber Dinner featuring Rear Admiral Thomas Cropper.<?xml:namespace prefix = o ns = "urn:schemas-microsoft-com:office:office" /><o:p></o:p></SPAN></P><P style="MARGIN: 0in 0in 0pt"><SPAN style="FONT-FAMILY: 'Verdana'\,'sans-serif'\; COLOR: #333333\; FONT-SIZE: 10pt">&nbsp\;<o:p></o:p></SPAN></P><P style="MARGIN: 0in 0in 0pt"><SPAN style="FONT-FAMILY: 'Verdana'\,'sans-serif'\; COLOR: #333333\; FONT-SIZE: 10pt">Join us Tuesday\, June 16 at The Figge Art Museum\, downtown Davenport\, for a cocktail reception and dinner.<o:p></o:p></SPAN></P></DIV>
LOCATION:Figge Art Museum225 West Second Street Davenport\, IA 52801
UID:e.2843.177
SEQUENCE:3
DTSTAMP:20260422T230924Z
URL:https://member.quadcitieschamber.com/events/details/quad-cities-chamber-navy-dinner-06-16-2011-177
END:VEVENT

END:VCALENDAR
