BEGIN:VCALENDAR
VERSION:2.0
PRODID:-//ChamberMaster//Event Calendar 2.0//EN
METHOD:PUBLISH
X-PUBLISHED-TTL:P3D
REFRESH-INTERVAL:P3D
CALSCALE:GREGORIAN
BEGIN:VEVENT
DTSTART:20250827T210000Z
DTEND:20250827T230000Z
X-MICROSOFT-CDO-ALLDAYEVENT:FALSE
SUMMARY:Quad Cities Chamber | Small & Minority Business MeetUp
DESCRIPTION:Quad Cities Chamber | Small & Minority Business MeetUp \n\nWednesday\, August 27\, 2025 | 4 - 6 p.m.\n\nUp Skybar at The Current Hotel\, Davenport\n\nMembers: $10 | Non-members: $15\n\n\n\nWalk-ins welcome!\n\n\n\nAre you a small business owner\, entrepreneur or professional?\n\nAre you part of a minority-owned business or passionate about supporting them?\n\nThen this event is for YOU!\n\n \n\nJoin us for a fun evening of connection and collaboration. This event brings together small and minority business owners\, entrepreneurs and professionals from across the region.\n\n\n\nWhether you're established\, just starting out or simply interested in supporting small and minority businesses\, this is your space to:\n\n\n	Build meaningful connections\n	Exchange ideas and opportunities\n\n\n\n\nCome and go as your schedule allows reconnect with friends or meet new ones! Your first drink is included in your ticket price.\n\n \n\nYou'll also learn more about how the Quad Cities Chamber supports small and minority businesses\, plus discover resources to help you thrive.\n\n \n\nLet's strengthen our business community together.\n\n\n\nThe Quad Cities Chamber strives to host inclusive and accessible events that enable all individuals to engage fully. For event assistance or any additional information\, please contact:\n\n\n\nJoanna Drake\n\nQuad Cities Chamber\n\njdrake@quadcitieschamber.com\n\nOffice: 563.823.2656\n\n\n\nCancellation Policy:\n\nCancellations must be received at least 72 hours in advance in order to receive a registration refund. You may transfer your registration to another person within your company at no additional cost.
X-ALT-DESC;FMTTYPE=text/html:<p class="MsoNormal" style="margin: 0in 0in 0pt\;"><span style="font-size:16px\;"><span style="font-family:arial\;"><b>Quad Cities Chamber | Small &amp\; Minority Business MeetUp&nbsp\;</b><br />\n<strong>Wednesday\, August 27\, 2025&nbsp\;| 4 - 6 p.m.</strong></span></span><br />\n<font face="arial"><span style="font-size: 16px\;"><b>Up Skybar at The Current Hotel\, Davenport</b></span></font><br />\n<span style="font-size:16px\;"><span style="font-family:arial\;"><strong>Members: $10&nbsp\;| Non-members: $15</strong></span></span><br />\n<br />\n<strong><span style="font-size:16px\;"><span style="font-family:arial\;"><span style="background-color:#FFFF00\;">Walk-ins welcome!</span></span></span></strong><br />\n<br />\n<strong><span style="font-size:11.0pt\;"><span style="font-size:16px\;">Are you a small business owner\, entrepreneur&nbsp\;or professional?</span></span></strong><br />\n<span style="font-size:16px\;"><strong>Are you part of a minority-owned business&mdash\;or passionate about supporting them?</strong><br />\nThen this event is for YOU!<br />\n&nbsp\;<br />\nJoin us for a fun evening of connection and collaboration. This event&nbsp\;brings together small and minority business owners\, entrepreneurs and professionals from across the region.<br />\n<br />\nWhether you&rsquo\;re established\, just starting out or simply interested in supporting small and minority businesses\, this is your space to:</span></p>\n\n<ul>\n	<li class="MsoNormal" style="margin: 0in 0in 0pt\;"><span style="font-size:16px\;">Build meaningful connections</span></li>\n	<li><span style="font-size:16px\;">Exchange ideas and opportunities</span></li>\n</ul>\n\n<p class="MsoNormal" style="margin: 0in 0in 0pt\;"><br />\n<span style="font-size:16px\;">Come and go as your schedule allows&mdash\;reconnect with friends or meet new ones! Your first drink is included in your ticket price.<br />\n&nbsp\;<br />\nYou&rsquo\;ll also learn more about how the Quad Cities Chamber supports small and minority businesses\, plus discover resources to help you thrive.<br />\n&nbsp\;<br />\nLet&rsquo\;s strengthen our business community&mdash\;together.</span></p>\n\n<div><br />\n<span style="color: rgb(39\, 50\, 56)\; font-family: arial\; font-size: 16px\; background-color: rgb(255\, 255\, 255)\;">The Quad Cities Chamber strives to host inclusive and accessible events that enable all individuals to engage fully. For event assistance or any additional information\, please contact:</span><br style="color: rgb(39\, 50\, 56)\; font-family: arial\; font-size: 16px\; box-sizing: border-box\;" />\n<br style="color: rgb(39\, 50\, 56)\; font-family: arial\; font-size: 16px\; box-sizing: border-box\;" />\n<span style="color: rgb(0\, 0\, 128)\;"><strong style="font-family: arial\; font-size: 16px\;">Joanna Drake<br />\nQuad Cities Chamber</strong></span><br style="font-family: arial\; font-size: 16px\;" />\n<a href="mailto:jdrake@quadcitieschamber.com"><span style="font-family: arial\; font-size: 16px\;">jdrake@quadcitieschamber.com</span></a><br style="font-family: arial\; font-size: 16px\;" />\n<span style="font-family: arial\; font-size: 16px\;">Office: 563.823.2656</span><br />\n<br />\n<u style="background-color: rgb(255\, 255\, 255)\; box-sizing: border-box\; color: rgb(39\, 50\, 56)\; font-size: 16px\; font-family: arial\;">Cancellation&nbsp\;Policy:</u><br style="background-color: rgb(255\, 255\, 255)\; box-sizing: border-box\; color: rgb(39\, 50\, 56)\; font-size: 16px\; font-family: Arial\;" />\n<span style="color: rgb(51\, 51\, 51)\; background-color: rgb(255\, 255\, 255)\; box-sizing: border-box\; font-size: 16px\; font-family: arial\;">Cancellations&nbsp\;must be received at least 72 hours in advance in order to receive a registration refund. You may transfer your registration to another person within your company at no additional cost.</span></div>\n\n<p align="center" class="MsoNormal" style="MARGIN: 0in 0in 0pt">&nbsp\;</p>\n
LOCATION:Up Skybar at The Current Hotel 215 N Main St\, Davenport\, IA 52801
UID:e.2843.24184
SEQUENCE:3
DTSTAMP:20260425T032158Z
URL:https://member.quadcitieschamber.com/events/details/quad-cities-chamber-small-minority-business-meetup-24184
END:VEVENT

END:VCALENDAR
