BEGIN:VCALENDAR
VERSION:2.0
PRODID:-//ChamberMaster//Event Calendar 2.0//EN
METHOD:PUBLISH
X-PUBLISHED-TTL:P3D
REFRESH-INTERVAL:P3D
CALSCALE:GREGORIAN
BEGIN:VEVENT
DTSTART:20130522T000000Z
DTEND:20130522T020000Z
X-MICROSOFT-CDO-ALLDAYEVENT:FALSE
SUMMARY:Quad Cities Community Reception for the 2013 Government Contracting Symposium
DESCRIPTION:Quad Cities Community Reception  Tuesday\, May 21\, 7-9 PMFigge Art Museum225 W. 2nd Street\, Davenport\, IA 52801 Cocktails & Hors d'oeurves Special Thanks to:  Missman\, IncMandus Group\, NDIA and URS By Invitation Only
X-ALT-DESC;FMTTYPE=text/html:<DIV align=center>Quad Cities Community Reception </DIV><DIV align=center>&nbsp\;</DIV><DIV align=center>Tuesday\, May 21\, 7-9 PM</DIV><DIV align=center>Figge Art Museum</DIV><DIV align=center>225 W. 2nd Street\, Davenport\, IA 52801</DIV><DIV align=center>&nbsp\;</DIV><DIV align=center>Cocktails &amp\; Hors d'oeurves</DIV><DIV align=center>&nbsp\;</DIV><DIV align=center>Special Thanks to:&nbsp\; Missman\, Inc</DIV><DIV align=center>Mandus Group\, NDIA and URS</DIV><DIV align=center>&nbsp\;</DIV><DIV align=center><FONT size=2>By Invitation Only</FONT></DIV>
LOCATION:Figge Art Museum225 West Second Street Davenport\, IA 52801
UID:e.2843.558
SEQUENCE:3
DTSTAMP:20260421T121237Z
URL:https://member.quadcitieschamber.com/events/details/quad-cities-community-reception-for-the-2013-government-contracting-symposium-05-21-2013-558
END:VEVENT

END:VCALENDAR
