BEGIN:VCALENDAR
VERSION:2.0
PRODID:-//ChamberMaster//Event Calendar 2.0//EN
METHOD:PUBLISH
X-PUBLISHED-TTL:P3D
REFRESH-INTERVAL:P3D
CALSCALE:GREGORIAN
BEGIN:VEVENT
DTSTART:20171129T000000Z
DTEND:20171129T013000Z
X-MICROSOFT-CDO-ALLDAYEVENT:FALSE
SUMMARY:Quad Cities Community Spotlight: Rock Island
DESCRIPTION:Join us as these Rock Island-based startups share the highs and lows of being an entrepreneur\, and the resources and tactics they have used to carry them through as they've built their businesses!\n\n\n\nOur Panel:\n\n\n\nJan Masamoto - JTM Concepts\, http://www.jtmconcepts.com/j_home.html\n\n\n\nCourtney Loftin   Inner Sanctum Studios\, https://www.innersanctumstudios.com/\n\n\n\nJeff Adamson - The Establishment Theatre/Comedy Sportz\, http://www.establishmentqc.com/ & http://www.comedysportzqc.com/ Phil Dingeldein - dphilms\, https://dphilms.com/\n\n\n\nSean Farley   Switch Stance\, http://www.switchstanceshop.com/\n\n\n\nBoth the City of Rock Island and Downtown Rock Island will be on hand to let you know of the programs\, financing tools and assistance they can provide to get and keep you up and running!\n\n\n\nChandler Poole & Bret Gardella - City of Rock Island\, http://www.rigov.org/\n\n\n\nErik Reader - Downtown Rock Island\, http://downtownrockisland.org/
X-ALT-DESC;FMTTYPE=text/html:<p><span style="font-size:14px\;"><span style="font-family:arial\;">Join us as these Rock Island-based startups share the highs and lows of being an entrepreneur\, and the resources and tactics they have used to carry them through as they&#39\;ve built their businesses!<br background-color:="" font-size:="" graphik="" style="color: rgb(46\, 62\, 72)\; font-family: " />\n<br background-color:="" font-size:="" graphik="" style="color: rgb(46\, 62\, 72)\; font-family: " />\nOur Panel:<br background-color:="" font-size:="" graphik="" style="color: rgb(46\, 62\, 72)\; font-family: " />\n<br background-color:="" font-size:="" graphik="" style="color: rgb(46\, 62\, 72)\; font-family: " />\nJan Masamoto - JTM Concepts\,&nbsp\;<a background-color:="" class="link" font-size:="" graphik="" href="http://www.jtmconcepts.com/j_home.html" style="display: inline\; color: rgb(0\, 162\, 199)\; text-decoration-line: none\; stroke: transparent\; fill: rgb(0\, 162\, 199)\; font-family: " target="__blank" title="http://www.jtmconcepts.com/j_home.html">http://www.jtmconcepts.com/j_home.html</a><br background-color:="" font-size:="" graphik="" style="color: rgb(46\, 62\, 72)\; font-family: " />\n<br background-color:="" font-size:="" graphik="" style="color: rgb(46\, 62\, 72)\; font-family: " />\nCourtney Loftin &ndash\; Inner Sanctum Studios\,&nbsp\;<a background-color:="" class="link" font-size:="" graphik="" href="https://www.innersanctumstudios.com/" style="display: inline\; color: rgb(0\, 162\, 199)\; text-decoration-line: none\; stroke: transparent\; fill: rgb(0\, 162\, 199)\; font-family: " target="__blank" title="https://www.innersanctumstudios.com/">https://www.innersanctumstudios.com/</a><br background-color:="" font-size:="" graphik="" style="color: rgb(46\, 62\, 72)\; font-family: " />\n<br background-color:="" font-size:="" graphik="" style="color: rgb(46\, 62\, 72)\; font-family: " />\nJeff Adamson - The Establishment Theatre/Comedy Sportz\,&nbsp\;<a background-color:="" class="link" font-size:="" graphik="" href="http://www.establishmentqc.com/" style="display: inline\; color: rgb(0\, 162\, 199)\; stroke: transparent\; fill: rgb(0\, 162\, 199)\; font-family: " target="__blank" title="http://www.establishmentqc.com/">http://www.establishmentqc.com/</a>&nbsp\;&amp\;&nbsp\;<a background-color:="" class="link" font-size:="" graphik="" href="http://www.comedysportzqc.com/" style="display: inline\; color: rgb(0\, 162\, 199)\; text-decoration-line: none\; stroke: transparent\; fill: rgb(0\, 162\, 199)\; font-family: " target="__blank" title="http://www.comedysportzqc.com/">http://www.comedysportzqc.com/</a>&nbsp\;Phil Dingeldein - </span></span><span background-color:="" font-size:="" graphik="" style="font-family: "><span style="font-size:14px\;"><span style="font-family:arial\;">dphilms</span></span></span><span style="font-size:14px\;"><span style="font-family:arial\;">\,&nbsp\;<a background-color:="" class="link" font-size:="" graphik="" href="https://dphilms.com/" style="display: inline\; color: rgb(0\, 162\, 199)\; text-decoration-line: none\; stroke: transparent\; fill: rgb(0\, 162\, 199)\; font-family: " target="__blank" title="https://dphilms.com/">https://dphilms.com/</a><br background-color:="" font-size:="" graphik="" style="color: rgb(46\, 62\, 72)\; font-family: " />\n<br background-color:="" font-size:="" graphik="" style="color: rgb(46\, 62\, 72)\; font-family: " />\nSean Farley &ndash\; Switch Stance\,&nbsp\;<a background-color:="" class="link" font-size:="" graphik="" href="http://www.switchstanceshop.com/" style="display: inline\; color: rgb(0\, 162\, 199)\; text-decoration-line: none\; stroke: transparent\; fill: rgb(0\, 162\, 199)\; font-family: " target="__blank" title="http://www.switchstanceshop.com/">http://www.switchstanceshop.com/</a><br background-color:="" font-size:="" graphik="" style="color: rgb(46\, 62\, 72)\; font-family: " />\n<br background-color:="" font-size:="" graphik="" style="color: rgb(46\, 62\, 72)\; font-family: " />\nBoth the City of Rock Island and Downtown Rock Island will be on hand to let you know of the programs\, financing tools and assistance they can provide to get and keep you up and running!<br background-color:="" font-size:="" graphik="" style="color: rgb(46\, 62\, 72)\; font-family: " />\n<br background-color:="" font-size:="" graphik="" style="color: rgb(46\, 62\, 72)\; font-family: " />\nChandler Poole &amp\; Bret Gardella - City of Rock Island\,&nbsp\;<a background-color:="" class="link" font-size:="" graphik="" href="http://www.rigov.org/" style="display: inline\; color: rgb(0\, 162\, 199)\; text-decoration-line: none\; stroke: transparent\; fill: rgb(0\, 162\, 199)\; font-family: " target="__blank" title="http://www.rigov.org/">http://www.rigov.org/</a><br background-color:="" font-size:="" graphik="" style="color: rgb(46\, 62\, 72)\; font-family: " />\n<br background-color:="" font-size:="" graphik="" style="color: rgb(46\, 62\, 72)\; font-family: " />\nErik Reader - Downtown Rock Island\,&nbsp\;<a background-color:="" class="link" font-size:="" graphik="" href="http://downtownrockisland.org/" style="display: inline\; color: rgb(0\, 162\, 199)\; text-decoration-line: none\; stroke: transparent\; fill: rgb(0\, 162\, 199)\; font-family: " target="__blank" title="http://downtownrockisland.org/">http://downtownrockisland.org/</a></span></span></p>\n
LOCATION:The Establishment Theatre 220 19th St Rock Island\, IL
UID:e.2843.8831
SEQUENCE:3
DTSTAMP:20260423T195042Z
URL:https://member.quadcitieschamber.com/events/details/quad-cities-community-spotlight-rock-island-8831
END:VEVENT

END:VCALENDAR
