BEGIN:VCALENDAR
VERSION:2.0
PRODID:-//ChamberMaster//Event Calendar 2.0//EN
METHOD:PUBLISH
X-PUBLISHED-TTL:P3D
REFRESH-INTERVAL:P3D
CALSCALE:GREGORIAN
BEGIN:VEVENT
DTSTART:20140508T150000Z
DTEND:20140508T153000Z
X-MICROSOFT-CDO-ALLDAYEVENT:FALSE
SUMMARY:Quad Cities Convention & Visitors Bureau Ribbon Cutting
DESCRIPTION:The Quad Cities Convention & Visitors Bureau will host a ribbon cutting ceremony on Thursday\, May 8th at 10:00am\, to celebrate the expansion of the Visitor's Center at the Quad City International Airport.    The Airport Visitor Center has moved closer to baggage claim and has been redesigned to better assist today's travelers.  The Quad Cities Convention & Visitors Bureau and the Quad City International Airport are extremely excited about the expansion of the Visitor's Center and believe that the information traveler's need will be more readily available as a result of the move.  Parking for the event will be validated.  For more information\, please visit www.visitquadcities.com.  Rene Hipple\, Senior Vice President of Membership\, will be speaking on behalf of the Quad Cities Chamber of Commerce.
X-ALT-DESC;FMTTYPE=text/html:<FONT face=Calibri><P style="MARGIN: 0in 0in 0pt" class=MsoNormal>The Quad Cities Convention &amp\; Visitors Bureau will host a ribbon cutting ceremony on <B style="mso-bidi-font-weight: normal">Thursday\, May 8<SUP>th</SUP> at 10:00am</B>\, to celebrate the expansion of the Visitor's Center at the Quad City International Airport.<SPAN style="mso-spacerun: yes">&nbsp\;&nbsp\; </SPAN><?xml:namespace prefix = o ns = "urn:schemas-microsoft-com:office:office" /><o:p></o:p></P><P style="MARGIN: 0in 0in 0pt" class=MsoNormal><o:p>&nbsp\;</o:p></P><P style="MARGIN: 0in 0in 0pt" class=MsoNormal>The Airport Visitor Center has moved closer to baggage claim and has been redesigned to better assist today's travelers.<SPAN style="mso-spacerun: yes">&nbsp\; </SPAN>The Quad Cities Convention &amp\; Visitors Bureau and the Quad City International Airport are extremely excited about the expansion of the Visitor's Center and believe that the information traveler's need will be more readily available as a result of the move. <o:p></o:p></P><P style="MARGIN: 0in 0in 0pt" class=MsoNormal><o:p>&nbsp\;</o:p></P><P style="MARGIN: 0in 0in 0pt" class=MsoNormal>Parking for the event will be validated. <SPAN style="mso-spacerun: yes">&nbsp\;</SPAN>For more information\, please visit <A href="http://www.visitquadcities.com"><FONT color=#0000ff face="Times New Roman">www.visitquadcities.com</FONT></A>. <o:p></o:p></P><P style="MARGIN: 0in 0in 0pt" class=MsoNormal><o:p>&nbsp\;</o:p></P><P style="MARGIN: 0in 0in 0pt" class=MsoNormal>Rene Hipple\, Senior Vice President of Membership\, will be speaking on behalf of the Quad Cities Chamber of Commerce.<SPAN style="mso-spacerun: yes">&nbsp\; </SPAN><o:p></o:p></P><P style="MARGIN: 0in 0in 0pt" class=MsoNormal><P></FONT></P><P></P></P>
LOCATION:Quad City International Airport2200 69th Ave. Moline\, IL 61265
UID:e.2843.794
SEQUENCE:3
DTSTAMP:20260422T093348Z
URL:https://member.quadcitieschamber.com/events/details/quad-cities-convention-visitors-bureau-ribbon-cutting-05-08-2014-794
END:VEVENT

END:VCALENDAR
