BEGIN:VCALENDAR
VERSION:2.0
PRODID:-//ChamberMaster//Event Calendar 2.0//EN
METHOD:PUBLISH
X-PUBLISHED-TTL:P3D
REFRESH-INTERVAL:P3D
CALSCALE:GREGORIAN
BEGIN:VEVENT
DTSTART:20130820T153000Z
DTEND:20130820T160000Z
X-MICROSOFT-CDO-ALLDAYEVENT:FALSE
SUMMARY:Quad Cities Convention & Visitors Bureau Ribbon Cutting
DESCRIPTION:Please help the Quad Cities Convention & Visitors Bureau celebration their expansion of services on Tuesday\, August 20th at 10:30 a.m. - located at 136 E. 3rd St.\, in Davenport (RiverCenter/Adler Theatre Hallway)  Over nine 42” flat screen\, interactive\, green friendly\, app-based TAP Kiosks have been installed and are now available throughout the Quad Cities for locals and visitors to find out what their members have to offer. For more information\, please visit www.visitquadcities.com.
X-ALT-DESC;FMTTYPE=text/html:<FONT face=Calibri><P style="MARGIN: 0in 0in 0pt" class=MsoNormal>Please help the Quad Cities Convention &amp\; Visitors Bureau celebration their expansion of services on <B style="mso-bidi-font-weight: normal">Tuesday\, August 20<SUP>th</SUP> at 10:30 a.m</B>. - located at 136 E. 3rd St.\, in Davenport (RiverCenter/Adler Theatre Hallway) <?xml:namespace prefix = o ns = "urn:schemas-microsoft-com:office:office" /><o:p></o:p></P><P style="MARGIN: 0in 0in 0pt" class=MsoNormal><o:p>&nbsp\;</o:p></P><P style="MARGIN: 0in 0in 0pt" class=MsoNormal>Over nine 42” flat screen\, interactive\, green friendly\, app-based TAP Kiosks have been installed and are now available throughout the Quad Cities for locals and visitors to find out what their members have to offer.<o:p></o:p></P><P style="MARGIN: 0in 0in 0pt" class=MsoNormal><o:p>&nbsp\;</o:p></P><P style="MARGIN: 0in 0in 0pt" class=MsoNormal>For more information\, please visit <A href="http://www.visitquadcities.com"><FONT face="Times New Roman">www.visitquadcities.com</FONT></A>.<o:p></o:p></P><P style="MARGIN: 0in 0in 0pt" class=MsoNormal></FONT>&nbsp\;</P>
LOCATION:RiverCenter/Adler Theatre136 E 3rd Street Davenport\, IA 52801
UID:e.2843.648
SEQUENCE:3
DTSTAMP:20260421T170109Z
URL:https://member.quadcitieschamber.com/events/details/quad-cities-convention-visitors-bureau-ribbon-cutting-08-20-2013-648
END:VEVENT

END:VCALENDAR
